BEGIN:VCALENDAR
VERSION:2.0
PRODID:-//jEvents 2.0 for Joomla//EN
CALSCALE:GREGORIAN
METHOD:PUBLISH
BEGIN:VEVENT
UID:382b41a824ba4b7bfe00b1fb5e74bbc4
CATEGORIES:15. Bezirk
CREATED:19700101T010000
SUMMARY:TANZ UND SPIEL FÜR ELTERN UND KINDER VON 1 BIS 3 JAHREN
LOCATION:Neubaugürtel 7
DESCRIPTION:……sich miteinander unter Tüchern verstecken, auf großen Bällen rollen, mite
 inander kugeln, purzeln und schaukeln, mit Luftballons spielen, Kisten durc
 h den Raum schieben, im Konfettiregen sitzen, Rhythmus und Musik erleben, u
 nd das alles nicht allein, sondern in der Geborgenheit einer vertrauten Gru
 ppe.\nLeitung: Susanna Garic\nKosten: 165 Euro für 13 Vormittage\nVeranstal
 tungsort: Neubaugürtel 7, 1150 Wien\n \n
X-ALT-DESC;FMTTYPE=text/html:<p>……sich miteinander unter Tüchern verstecken, auf großen Bällen rollen, m
 iteinander kugeln, purzeln und schaukeln, mit Luftballons spielen, Kisten d
 urch den Raum schieben, im Konfettiregen sitzen, Rhythmus und Musik erleben
 , und das alles nicht allein, sondern in der Geborgenheit einer vertrauten 
 Gruppe.</p><p>Leitung: Susanna Garic<br />Kosten: 165 Euro für 13 Vormittag
 e<br />Veranstaltungsort: Neubaugürtel 7, 1150 Wien</p><p> </p>
CONTACT:office@kinderatelier.at
X-EXTRAINFO:[preis='16500'][anmeldung='true']
DTSTAMP:20260423T160132
DTSTART:20190920T080000
DTEND:20190920T093000
SEQUENCE:0
RRULE:FREQ=WEEKLY;UNTIL=20191221T000000Z;INTERVAL=1;BYDAY=FR
TRANSP:OPAQUE
END:VEVENT
END:VCALENDAR