BEGIN:VCALENDAR
VERSION:2.0
PRODID:-//jEvents 2.0 for Joomla//EN
CALSCALE:GREGORIAN
METHOD:PUBLISH
BEGIN:VEVENT
UID:15633c6e4ccf27718517748bff1f7a5e
CATEGORIES:3. Bezirk
CREATED:20190913T160423
SUMMARY:Schnupperstunde Mama Baby Yoga
LOCATION:Kreativraum 1030 Wien \, Hörnesgasse 18\, Eingang Ecke Kübeckgasse
DESCRIPTION:MAMA BABY YOGA SCHNUPPERSTUNDE um 5,-\nGenieße die Auszeit mit dir und dein
 em Baby. Wir machen einen Mix aus sanften Yoga- und Rückbildungsübungen. Na
 ch der Geburt sind Rückbildungsübungen für deinen Beckenboden besonders wic
 htig.\nSo machst du deinen Körper wieder fit. Schöpfe neue Energie.\nDu kan
 nst vom Alltag abschalten und dich mit anderen Mamis austauschen. Dein Baby
  kann sich während einer Babymassage entspannen. Omas oder Papas ebenfalls 
 willkommen.\n \nDu kannst bar bezahlen oder gleich direkt online deine Schn
 upperstunde buchen. Hier der Link--&gt;  https://widget.eversports.com/w/s8
 758z (https://widget.eversports.com/w/s8758z)\noder buche bequem übers Hand
 y mit der Eversports App--&gt;https://www.eversports.at/i/s8758z (https://w
 ww.eversports.at/i/s8758z)\nIch freue mich auf dich. Namasté\n \nAnmeldung 
 bitte unter: julia_yoga@posteo.at (mailto:julia_yoga@posteo.at) wenn du dic
 h nicht im Online System schon angemeldet hast. DANKE\n \n
X-ALT-DESC;FMTTYPE=text/html:<p>MAMA BABY YOGA SCHNUPPERSTUNDE um 5,-</p><p>Genieße die Auszeit mit dir 
 und deinem Baby. Wir machen einen Mix aus sanften Yoga- und Rückbildungsübu
 ngen. Nach der Geburt sind Rückbildungsübungen für deinen Beckenboden beson
 ders wichtig.</p><p>So machst du deinen Körper wieder fit. Schöpfe neue Ene
 rgie.</p><p>Du kannst vom Alltag abschalten und dich mit anderen Mamis aust
 auschen. Dein Baby kann sich während einer Babymassage entspannen. Omas ode
 r Papas ebenfalls willkommen.</p><p> </p><p>Du kannst bar bezahlen oder gle
 ich direkt online deine Schnupperstunde buchen. Hier der Link--&gt;  <a hre
 f="https://widget.eversports.com/w/s8758z">https://widget.eversports.com/w/
 s8758z</a></p><p>oder buche bequem übers Handy mit der Eversports App--&gt;
 <a href="https://www.eversports.at/i/s8758z">https://www.eversports.at/i/s8
 758z</a></p><p>Ich freue mich auf dich. Namasté</p><p> </p><p>Anmeldung bit
 te unter: <a href="mailto:julia_yoga@posteo.at">julia_yoga@posteo.at</a> we
 nn du dich nicht im Online System schon angemeldet hast. DANKE</p><p> </p>
CONTACT:julia_yoga@posteo.at
DTSTAMP:20260424T144135
DTSTART:20190920T094500
DTEND:20190920T104500
SEQUENCE:0
TRANSP:OPAQUE
END:VEVENT
END:VCALENDAR