BEGIN:VCALENDAR
VERSION:2.0
PRODID:-//jEvents 2.0 for Joomla//EN
CALSCALE:GREGORIAN
METHOD:PUBLISH
BEGIN:VEVENT
UID:cbd5ab3e6f930d2da73055115a983890
CATEGORIES:Wien Umgebung
CREATED:20190916T195818
SUMMARY:Sexuelle Entwicklung – Von Anfang an!
LOCATION:EKIZ Guntramsdorf
DESCRIPTION:Alle Menschen werden als sexuelle Wesen geboren. Vielen Eltern macht dieser
  Gedanke Angst, weil sie ihre Kinder natürlicherweise schützen wollen. Beim
  Thema kindliche sexuelle Entwicklung ist jedoch am wichtigsten, zu begreif
 en, dass kindliche Sexualität nichts mit dem zu tun hat, was Erwachsene unt
 er Sexualität verstehen.\nIn diesem Vortrag geht es darum, die kindliche se
 xuelle Entwicklung als Teil des Heranwachsens von Menschen verstehen zu ler
 nen. Eltern und andere Bezugspersonen können hier erfahren, wie sie von Geb
 urt an im Erziehungsalltag adäquat bei der sexuellen Bildung eines Kindes u
 nterstützen können. Durch einen altersgerechten Umgang mit Sexualität kann 
 ein wichtiger Schutz vor (sexueller) Gewalt geleistet und Kinder zu selbstb
 estimmten Erwachsenen erzogen werden.\nPreis: 20€/Person, Paare zahlen insg
 esamt 30€\nDie Anmeldung erfolgt via conny@gefuehlsecht.at!\n
X-ALT-DESC;FMTTYPE=text/html:<p>Alle Menschen werden als sexuelle Wesen geboren. Vielen Eltern macht die
 ser Gedanke Angst, weil sie ihre Kinder natürlicherweise schützen wollen. B
 eim Thema kindliche sexuelle Entwicklung ist jedoch am wichtigsten, zu begr
 eifen, dass kindliche Sexualität nichts mit dem zu tun hat, was Erwachsene 
 unter Sexualität verstehen.</p><p>In diesem <strong>Vortrag</strong> geht e
 s darum, die <strong>kindliche sexuelle Entwicklung</strong> als Teil des H
 eranwachsens von Menschen verstehen zu lernen. Eltern und andere Bezugspers
 onen können hier erfahren, wie sie von Geburt an im Erziehungsalltag adäqua
 t bei der sexuellen Bildung eines Kindes unterstützen können. Durch einen a
 ltersgerechten Umgang mit Sexualität kann ein wichtiger Schutz vor (sexuell
 er) Gewalt geleistet und Kinder zu selbstbestimmten Erwachsenen erzogen wer
 den.</p><p><strong>Preis</strong>: 20€/Person, Paare zahlen insgesamt 30€</
 p><p>Die <strong>Anmeldung</strong> erfolgt via conny@gefuehlsecht.at!</p>
CONTACT:conny@gefuehlsecht.at
X-EXTRAINFO:[preis='2000'][anmeldung='true']
DTSTAMP:20260425T141539
DTSTART:20190916T160000
DTEND:20190916T180000
SEQUENCE:0
TRANSP:OPAQUE
END:VEVENT
END:VCALENDAR