BEGIN:VCALENDAR
VERSION:2.0
PRODID:-//jEvents 2.0 for Joomla//EN
CALSCALE:GREGORIAN
METHOD:PUBLISH
BEGIN:VEVENT
UID:ae86458eb7d2e48a3d4f85daaf6866f9
CATEGORIES:15. Bezirk
CREATED:20190916T195954
SUMMARY:Sextalk! Der Zyklus und die vier Jahreszeiten
LOCATION:Künstlergasse 14/1\, 1150 Wien
DESCRIPTION:Sextalk! – Der etwas andere „Mädels*abend“bietet Frauen* die Möglichkeit, s
 ich mit anderen zu den Themen Sexualität, Körper, Gefühle, Lust etc. auszut
 auschen. Dank der gemütlichen Atmosphärekönnen Fragen gestellt werden, die 
 sonst womöglich im Verborgenen bleiben.\nBei Keksen und Getränken werden al
 le Fragen unaufgeregt und schamlos besprochen.\nIm September sprechen wir ü
 ber den weiblichen* Zyklus!\nKosten: 20€\nBitte melde dich per E-Mail(conny
 @gefuehlsecht.at) an.\nUm einen gemütlichen und intimen Abend garantieren z
 u können, ist die Teilnahme auf 10 Personen begrenzt.\n
X-ALT-DESC;FMTTYPE=text/html:<p><strong>Sextalk! – Der etwas andere „Mädels*abend“</strong>bietet <stron
 g>Frauen*</strong> die Möglichkeit, sich mit anderen zu den Themen Sexualit
 ät, Körper, Gefühle, Lust etc. auszutauschen. Dank der <strong>gemütlichen 
 Atmosphäre</strong>können Fragen gestellt werden, die sonst womöglich im Ve
 rborgenen bleiben.</p><p>Bei <strong>Keksen</strong> und <strong>Getränken<
 /strong> werden alle Fragen unaufgeregt und schamlos besprochen.</p><p>Im S
 eptember sprechen wir über den weiblichen* Zyklus!</p><p><strong>Kosten</st
 rong>: 20€</p><p>Bitte melde dich per <strong>E-Mail</strong>(conny@gefuehl
 secht.at) an.<br />Um einen gemütlichen und intimen Abend garantieren zu kö
 nnen, ist die Teilnahme auf <strong>10 Personen</strong> begrenzt.</p>
CONTACT:conny@gefuehlsecht.at
X-EXTRAINFO:[preis='2000'][anmeldung='true']
DTSTAMP:20260425T170137
DTSTART:20190926T173000
DTEND:20190926T190000
SEQUENCE:0
TRANSP:OPAQUE
END:VEVENT
END:VCALENDAR