BEGIN:VCALENDAR
VERSION:2.0
PRODID:-//jEvents 2.0 for Joomla//EN
CALSCALE:GREGORIAN
METHOD:PUBLISH
BEGIN:VEVENT
UID:55d1eb1355d42123931fc008f6f72ad4
CATEGORIES:15. Bezirk
CREATED:20190916T200419
SUMMARY:Zeit für dich - ein Tag voller Selbstliebe 
LOCATION:Künstlergasse 14/1\, 1150 Wien
DESCRIPTION:Zeit für DICH – Ein Tag voller Selbstliebe\nWann und wie oft investierst du
  Zeit in dich?\nDieser Workshop bietet dir die Gelegenheit, eine Auszeit zu
  nehmen und auf deine Wünsche und Bedürfnisse zu schauen.\nIn diesen acht S
 tunden lernst du, wie du zu mehr Gelassenheit, Klarheit, Achtsamkeit und Lu
 st finden und somit auch deinen Alltag in deinen verschiedenen Rollen wirkl
 ich genießen kannst. \nDu erlebst gemeinsam mit uns einen Wellnessurlaub in
  deinem eigenen Körper.\nWir reisen gemeinsam durch den Tag mit Entspannung
 s- und Wahrnehmungsübungen. Wir blicken zurück und fragen uns, wie wir zu d
 er Person geworden sind, die wir heute sind und schauen uns deine Wünsche u
 nd Visionen für dein Leben genauer an, schaffen Klarheit darüber, was du wi
 rklich verändern willst und erarbeiten einen Plan, wie du es schaffst, dies
 e umzusetzen. Außerdem befassen wir uns mit den Themen Scham, Sexualitäten 
 und Lust.\nDu hast die Möglichkeit, durch verschiedene Fragetechniken in Ei
 genreflexion zu gehen und durch den Austausch das Potential der anderen Tei
 lnehmerinnen* zu nutzen.\n\nWas Du brauchst:\n• Bequeme Kleidung und dicke 
 Socken\n• Notizbuch, in dem du deine Gedanken, Visionen und Wünsche aufschr
 eiben kannst \n• Neugierde und Offenheit\nWann: 19. Oktober 2019, 10 bis 18
  Uhr \nWo: Künstlergasse 14/1, 1150 Wien\nBeitrag: 120€ bei Buchung bis 30.
 9.2019 – Frühbucherinnen*bonus!\n150€ Regulärpreis\nAnmeldung unter natasch
 a@wunderbar-weiblich.at\nZielgruppe: Frauen* (FLINT*), die sich nach mehr S
 elbstliebe und Zugang zu sich und ihren Körper sehnen\nGruppengröße: max. 1
 0 Frauen*\nVerpflegung:\nEs werden Getränke und Snacks zur Verfügung gestel
 lt. Für das gemeinsame Mittagessen bitten wir jede Teilnehmerin*, etwas mit
 zubringen.\nAnmeldung:\nWorkshopleiterinnen:\nCornelia Lindner, MA\nSexualp
 ädagogin, Sexualberaterin, Familienplanungsberaterin, Supervisorin, Beckenb
 odentrainerin\nwww.gefuehlsecht.at\nwww.laufenliebenleben.at\nNatascha Herr
 mann, BA\nBildungswissenschafterin, Sexualpädagogin, Beckenbodentrainerin u
 nd Mama einer Tochter. \nhttps://www.instagram.com/wunderbarweiblich/\n \n
X-ALT-DESC;FMTTYPE=text/html:<p>Zeit für DICH – Ein Tag voller Selbstliebe</p><p>Wann und wie oft invest
 ierst du Zeit in dich?</p><p>Dieser Workshop bietet dir die Gelegenheit, ei
 ne Auszeit zu nehmen und auf deine Wünsche und Bedürfnisse zu schauen.<br /
 >In diesen acht Stunden lernst du, wie du zu mehr Gelassenheit, Klarheit, A
 chtsamkeit und Lust finden und somit auch deinen Alltag in deinen verschied
 enen Rollen wirklich genießen kannst. <br />Du erlebst gemeinsam mit uns ei
 nen Wellnessurlaub in deinem eigenen Körper.</p><p>Wir reisen gemeinsam dur
 ch den Tag mit Entspannungs- und Wahrnehmungsübungen. Wir blicken zurück un
 d fragen uns, wie wir zu der Person geworden sind, die wir heute sind und s
 chauen uns deine Wünsche und Visionen für dein Leben genauer an, schaffen K
 larheit darüber, was du wirklich verändern willst und erarbeiten einen Plan
 , wie du es schaffst, diese umzusetzen. Außerdem befassen wir uns mit den T
 hemen Scham, Sexualitäten und Lust.<br />Du hast die Möglichkeit, durch ver
 schiedene Fragetechniken in Eigenreflexion zu gehen und durch den Austausch
  das Potential der anderen Teilnehmerinnen* zu nutzen.</p><p><br />Was Du b
 rauchst:<br />• Bequeme Kleidung und dicke Socken<br />• Notizbuch, in dem 
 du deine Gedanken, Visionen und Wünsche aufschreiben kannst <br />• Neugier
 de und Offenheit</p><p>Wann: 19. Oktober 2019, 10 bis 18 Uhr <br />Wo: Küns
 tlergasse 14/1, 1150 Wien<br />Beitrag: 120€ bei Buchung bis 30.9.2019 – Fr
 ühbucherinnen*bonus!<br />150€ Regulärpreis</p><p>Anmeldung unter natascha@
 wunderbar-weiblich.at</p><p>Zielgruppe: Frauen* (FLINT*), die sich nach meh
 r Selbstliebe und Zugang zu sich und ihren Körper sehnen</p><p>Gruppengröße
 : max. 10 Frauen*</p><p>Verpflegung:<br />Es werden Getränke und Snacks zur
  Verfügung gestellt. Für das gemeinsame Mittagessen bitten wir jede Teilneh
 merin*, etwas mitzubringen.<br />Anmeldung:</p><p>Workshopleiterinnen:</p><
 p>Cornelia Lindner, MA<br />Sexualpädagogin, Sexualberaterin, Familienplanu
 ngsberaterin, Supervisorin, Beckenbodentrainerin<br />www.gefuehlsecht.at<b
 r />www.laufenliebenleben.at</p><p>Natascha Herrmann, BA<br />Bildungswisse
 nschafterin, Sexualpädagogin, Beckenbodentrainerin und Mama einer Tochter. 
 <br />https://www.instagram.com/wunderbarweiblich/</p><p> </p>
CONTACT:natascha@wunderbar-weiblich.at
X-EXTRAINFO:[preis='15000'][anmeldung='true']
DTSTAMP:20260425T170136
DTSTART:20191019T080000
DTEND:20191019T160000
SEQUENCE:0
TRANSP:OPAQUE
END:VEVENT
END:VCALENDAR