BEGIN:VCALENDAR
VERSION:2.0
PRODID:-//jEvents 2.0 for Joomla//EN
CALSCALE:GREGORIAN
METHOD:PUBLISH
BEGIN:VEVENT
UID:77a26a014833caf52dde75d3e3dcf46a
CATEGORIES:8. Bezirk
CREATED:20190919T085744
SUMMARY:KunstKinder -Das Kinderatelier: Materialflut vs Sinnesförderung 
LOCATION:MAMA &amp; PAPA PUR\, Josefstädter Straße 81-83\, 2ter Innenhof\, Souterrai
 nstudio links 
DESCRIPTION:<p class="p1"><strong><span class="s1">KunstKinder - Das Kinderatelier</spa
 n></strong></p><p class="p1"><span class="s2">Kreativität steckt in uns all
 en! Picasso sagte einst "Jedes Kind ist ein Künstler". Das stimmt und desha
 lb haben es sich die KunstKinder zur Aufgabe gemacht Kreativität zu wecken,
  fördern und zu bewahren. Gemeinsam begeben wir uns auf eine kreative Reise
 . </span></p><p class="p1"><span class="s1"><strong>WANN</strong></span></p
 ><p class="p1"><span class="s2">Donnerstag, 03.10.19 - Materialflut vs Sinn
 esförderung </span></p><p class="p1"><strong><span class="s2">Weitere Termi
 ne</span></strong></p><p class="p1"><span class="s2">17.10.19 - Herbstrausc
 h </span></p><p class="p1"><span class="s2">14.11.19 - Natur pur</span></p>
 <p class="p1"><span class="s2">28.11.19 - Winterwonderland </span></p><p cl
 ass="p1"><span class="s2">12.12.19 - Es weihnachtet </span></p><p class="p2
 "> </p><p class="p1"><span class="s2">jeweils 15:30 bis 16:30 Uhr</span></p
 ><p class="p2"> </p><p class="p1"><span class="s1"><strong>KOSTEN</strong><
 /span></p><p class="p1"><span class="s2">13 € pro Kind inkl. Material</span
 ></p><p class="p1"><span class="s2">10 € pro Geschwisterkind</span></p><p c
 lass="p2"> </p><p class="p1"><strong><span class="s1">KONTAKT</span></stron
 g></p><p class="p1"><span class="s1">Daniela Rotter</span></p><p class="p1"
 ><span class="s2">Kinderanimation by Daniela</span></p><p class="p3"><span 
 class="s2"><a href="http://www.magictime.webnode.at/">www.magictime.webnode
 .at</a></span></p><p class="p1"><span class="s2">rotterdaniela@gmx.at</span
 ></p><p class="p3"><span class="s4"><a href="tel:+43/699/11670693">+43/699/
 11670693</a></span></p><p class="p1"><span class="s2">Facebook: </span></p>
 <p class="p1"><span class="s2">Kinderanimation MagicTime by Daniela</span><
 /p><p class="p1"> </p><p class="p1"><span class="s2">Limitierte Plätze- Anm
 eldung eerforderlich  </span></p>
X-ALT-DESC;FMTTYPE=text/html:<p class="p1"><strong><span class="s1">KunstKinder - Das Kinderatelier</spa
 n></strong></p><p class="p1"><span class="s2">Kreativität steckt in uns all
 en! Picasso sagte einst "Jedes Kind ist ein Künstler". Das stimmt und desha
 lb haben es sich die KunstKinder zur Aufgabe gemacht Kreativität zu wecken,
  fördern und zu bewahren. Gemeinsam begeben wir uns auf eine kreative Reise
 . </span></p><p class="p1"><span class="s1"><strong>WANN</strong></span></p
 ><p class="p1"><span class="s2">Donnerstag, 03.10.19 - Materialflut vs Sinn
 esförderung </span></p><p class="p1"><strong><span class="s2">Weitere Termi
 ne</span></strong></p><p class="p1"><span class="s2">17.10.19 - Herbstrausc
 h </span></p><p class="p1"><span class="s2">14.11.19 - Natur pur</span></p>
 <p class="p1"><span class="s2">28.11.19 - Winterwonderland </span></p><p cl
 ass="p1"><span class="s2">12.12.19 - Es weihnachtet </span></p><p class="p2
 "> </p><p class="p1"><span class="s2">jeweils 15:30 bis 16:30 Uhr</span></p
 ><p class="p2"> </p><p class="p1"><span class="s1"><strong>KOSTEN</strong><
 /span></p><p class="p1"><span class="s2">13 € pro Kind inkl. Material</span
 ></p><p class="p1"><span class="s2">10 € pro Geschwisterkind</span></p><p c
 lass="p2"> </p><p class="p1"><strong><span class="s1">KONTAKT</span></stron
 g></p><p class="p1"><span class="s1">Daniela Rotter</span></p><p class="p1"
 ><span class="s2">Kinderanimation by Daniela</span></p><p class="p3"><span 
 class="s2"><a href="http://www.magictime.webnode.at/">www.magictime.webnode
 .at</a></span></p><p class="p1"><span class="s2">rotterdaniela@gmx.at</span
 ></p><p class="p3"><span class="s4"><a href="https://babymamas.at/tel:+43/6
 99/11670693">+43/699/11670693</a></span></p><p class="p1"><span class="s2">
 Facebook: </span></p><p class="p1"><span class="s2">Kinderanimation MagicTi
 me by Daniela</span></p><p class="p1"> </p><p class="p1"><span class="s2">L
 imitierte Plätze- Anmeldung eerforderlich  </span></p>
CONTACT:Daniela Rotter +43/699/11670693, rotterdaniela@gmx.at
X-EXTRAINFO:[preis='1300'][anmeldung='true']
DTSTAMP:20260424T152725
DTSTART:20191003T133000
DTEND:20191003T143000
SEQUENCE:0
TRANSP:OPAQUE
END:VEVENT
END:VCALENDAR