BEGIN:VCALENDAR
VERSION:2.0
PRODID:-//jEvents 2.0 for Joomla//EN
CALSCALE:GREGORIAN
METHOD:PUBLISH
BEGIN:VEVENT
UID:a6111afc5aaba8e27a58fd1251445c9d
CATEGORIES:8. Bezirk
CREATED:20190919T085908
SUMMARY:KunstKinder -Das Kinderatelier: Herbstrausch
LOCATION:MAMA &amp; PAPA PUR\, Josefstädter Straße 81-83\, 2ter Innenhof\, Souterrai
 nstudio links 
DESCRIPTION:<p class="p1"><strong><span class="s1">KunstKinder - Das Kinderatelier</spa
 n></strong></p><p class="p1"><span class="s2">Kreativität steckt in uns all
 en! Picasso sagte einst "Jedes Kind ist ein Künstler". Das stimmt und desha
 lb haben es sich die KunstKinder zur Aufgabe gemacht Kreativität zu wecken,
  fördern und zu bewahren. Gemeinsam begeben wir uns auf eine kreative Reise
 . </span></p><p class="p1"><span class="s1"><strong>WANN</strong></span></p
 ><p class="p1"><span class="s2">Donnerstag, 17.10.19 - Herbstrausch </span>
 </p><p class="p1"><strong><span class="s2">Weitere Termine</span></strong><
 /p><p class="p1"><span class="s2">14.11.19 - Natur pur</span></p><p class="
 p1"><span class="s2">28.11.19 - Winterwonderland </span></p><p class="p1"><
 span class="s2">12.12.19 - Es weihnachtet </span></p><p class="p2"> </p><p 
 class="p1"><span class="s2">jeweils 15:30 bis 16:30 Uhr</span></p><p class=
 "p2"> </p><p class="p1"><span class="s1"><strong>KOSTEN</strong></span></p>
 <p class="p1"><span class="s2">13 € pro Kind inkl. Material</span></p><p cl
 ass="p1"><span class="s2">10 € pro Geschwisterkind</span></p><p class="p2">
  </p><p class="p1"><strong><span class="s1">KONTAKT</span></strong></p><p c
 lass="p1"><span class="s1">Daniela Rotter</span></p><p class="p1"><span cla
 ss="s2">Kinderanimation by Daniela</span></p><p class="p3"><span class="s2"
 ><a href="http://www.magictime.webnode.at/">www.magictime.webnode.at</a></s
 pan></p><p class="p1"><span class="s2">rotterdaniela@gmx.at</span></p><p cl
 ass="p3"><span class="s4"><a href="tel:+43/699/11670693">+43/699/11670693</
 a></span></p><p class="p1"><span class="s2">Facebook: </span></p><p class="
 p1"><span class="s2">Kinderanimation MagicTime by Daniela</span></p><p clas
 s="p1"> </p><p class="p1"><span class="s2">Limitierte Plätze- Anmeldung eer
 forderlich  </span></p>
X-ALT-DESC;FMTTYPE=text/html:<p class="p1"><strong><span class="s1">KunstKinder - Das Kinderatelier</spa
 n></strong></p><p class="p1"><span class="s2">Kreativität steckt in uns all
 en! Picasso sagte einst "Jedes Kind ist ein Künstler". Das stimmt und desha
 lb haben es sich die KunstKinder zur Aufgabe gemacht Kreativität zu wecken,
  fördern und zu bewahren. Gemeinsam begeben wir uns auf eine kreative Reise
 . </span></p><p class="p1"><span class="s1"><strong>WANN</strong></span></p
 ><p class="p1"><span class="s2">Donnerstag, 17.10.19 - Herbstrausch </span>
 </p><p class="p1"><strong><span class="s2">Weitere Termine</span></strong><
 /p><p class="p1"><span class="s2">14.11.19 - Natur pur</span></p><p class="
 p1"><span class="s2">28.11.19 - Winterwonderland </span></p><p class="p1"><
 span class="s2">12.12.19 - Es weihnachtet </span></p><p class="p2"> </p><p 
 class="p1"><span class="s2">jeweils 15:30 bis 16:30 Uhr</span></p><p class=
 "p2"> </p><p class="p1"><span class="s1"><strong>KOSTEN</strong></span></p>
 <p class="p1"><span class="s2">13 € pro Kind inkl. Material</span></p><p cl
 ass="p1"><span class="s2">10 € pro Geschwisterkind</span></p><p class="p2">
  </p><p class="p1"><strong><span class="s1">KONTAKT</span></strong></p><p c
 lass="p1"><span class="s1">Daniela Rotter</span></p><p class="p1"><span cla
 ss="s2">Kinderanimation by Daniela</span></p><p class="p3"><span class="s2"
 ><a href="http://www.magictime.webnode.at/">www.magictime.webnode.at</a></s
 pan></p><p class="p1"><span class="s2">rotterdaniela@gmx.at</span></p><p cl
 ass="p3"><span class="s4"><a href="https://babymamas.at/tel:+43/699/1167069
 3">+43/699/11670693</a></span></p><p class="p1"><span class="s2">Facebook: 
 </span></p><p class="p1"><span class="s2">Kinderanimation MagicTime by Dani
 ela</span></p><p class="p1"> </p><p class="p1"><span class="s2">Limitierte 
 Plätze- Anmeldung eerforderlich  </span></p>
CONTACT:Daniela Rotter +43/699/11670693, rotterdaniela@gmx.at
X-EXTRAINFO:[preis='1300'][anmeldung='true']
DTSTAMP:20260424T151709
DTSTART:20191017T133000
DTEND:20191017T143000
SEQUENCE:0
TRANSP:OPAQUE
END:VEVENT
END:VCALENDAR