BEGIN:VCALENDAR
VERSION:2.0
PRODID:-//jEvents 2.0 for Joomla//EN
CALSCALE:GREGORIAN
METHOD:PUBLISH
BEGIN:VEVENT
UID:82124e4fc3c681cea7bea7b23b862db2
CATEGORIES:14. Bezirk
CREATED:20190922T173750
SUMMARY:mamaFIT mit Andrea im Matzner Park, Outdoortraining f. Schwangere & Mamis
LOCATION:Matzner Park\, 1140
DESCRIPTION:mamaFIT mit Andrea ist dein neues Outdoor-Workout, das dich von der Schwang
 erschaft bis in die Zeit als Mama hinein begleitet. Ein sicheres und effekt
 ives Workout, bei dem du als Mama die Hauptrolle spielst. \n \nEgal, ob mit
  Babybauch, Kind in der Trage oder im Kinderwagen, bei mir bist du immer he
 rzlich willkommen! \n \nJeden zweiten Dienstag trainieren wir im Matzner Pa
 rk. Erreichbar mit den Straßenbahnen 49 &amp; 52. \n \n \nDeine Vorteile: \
 n \ndu trainierst mit Mamas aus deiner Gegend und hast Spaß deinen Körper (
 wieder) in Form zu bringen du kannst gemeinsam mit deinem Kind die frische 
 Luft genießen und Vitamin D tanken du sparst dir den Babysitter  \nUnser Mo
 tto: Fühl dich wohl in deinem Körper! \n \n \n \nIch biete dir ein mamafreu
 ndliches und flexibles Kurssystem! \n \nOffenes Kurssystem - Einstieg jeder
 zeit möglich! \n \nAnmeldung vorab möglich, jedoch nicht zwingend notwendig
 . \n \nwww.mamafit.at/trainer/andrea-sulzmann/ \n \n \n \nPreise: \n \n14€ 
 - Einzelstunde \n \n60€ - 5er Block* \n \n110€ - 10er Block* \n \n*die Bloc
 kkarten sind 1 Jahr gültig und übertragbar \n \n \nBei Fragen stehe ich dir
  jederzeit nach der Stunde oder per Mail zur Verfügung: andrea.sulzmann@mam
 afit.at \n \n \nIch freue mich auf dich und dein Kind!\n \nAlles Liebe, \nA
 ndrea, deine mamaFIT-Trainerin\n
X-ALT-DESC;FMTTYPE=text/html:<div id="contentsContainer"><div id="contents"><p id="E42"><span id="E-64">
 <strong>mamaFIT mit Andrea</strong> ist dein neues <strong>Outdoor-Workout<
 /strong>, das dich von der Schwangerschaft bis in die Zeit als Mama hinein 
 begleitet. Ein sicheres und effektives Workout, bei dem du als Mama die Hau
 ptrolle spielst. </span></p><p id="E-8"> </p><p id="E-9"><strong><span id="
 E-66">Egal, ob mit Babybauch, Kind in der Trage oder im Kinderwagen, bei mi
 r bist du immer herzlich willkommen! </span></strong></p><p id="E-10"><stro
 ng> </strong></p><p id="E-11"><span id="E-68"><strong>Jeden zweiten Diensta
 g</strong> trainieren wir im <strong>Matzner Park</strong>. Erreichbar mit 
 den Straßenbahnen 49 &amp; 52. </span></p><p id="E-13"> </p><p id="E-14"> <
 /p><p id="E-15"><span id="E-72">Deine Vorteile: </span></p><p id="E-16"> </
 p><ul><li id="E-17"><span id="E-74">du trainierst mit Mamas aus deiner Gege
 nd und hast Spaß deinen Körper (wieder) in Form zu bringen </span></li><li 
 id="E-18"><span id="E-75">du kannst gemeinsam mit deinem Kind die frische L
 uft genießen und Vitamin D tanken </span></li><li id="E-19"><span id="E-76"
 >du sparst dir den Babysitter </span></li></ul><p id="E-20"> </p><p id="E-2
 1"><span id="E-78">Unser Motto: Fühl dich wohl in deinem Körper! </span></p
 ><p id="E-22"> </p><p id="E-23"> </p><p id="E-26"> </p><p id="E-27"><span i
 d="E-84">Ich biete dir ein mamafreundliches und flexibles Kurssystem! </spa
 n></p><p id="E-28"> </p><p id="E-29"><strong><span id="E-86">Offenes Kurssy
 stem - Einstieg jederzeit möglich! </span></strong></p><p id="E-30"> </p><p
  id="E-31"><span id="E-88">Anmeldung vorab möglich, jedoch nicht zwingend n
 otwendig. </span></p><p id="E-32"> </p><p id="E-33"><strong><span id="E-90"
 >www.mamafit.at/trainer/andrea-sulzmann/ </span></strong></p><p id="E-34"> 
 </p></div></div><div id="contentsContainer"><div id="contents"><p id="E-35"
 > </p><p id="E-36"> </p><p id="E-37"><span id="E-94">Preise: </span></p><p 
 id="E-38"> </p><p id="E-39"><span id="E-96">14€ - Einzelstunde </span></p><
 p id="E-40"> </p><p id="E-41"><span id="E-98">60€ - 5er Block* </span></p><
 p id="E-42"> </p><p id="E-43"><span id="E-100">110€ - 10er Block* </span></
 p><p id="E-44"> </p><p id="E-47"><span id="E-104">*die Blockkarten sind 1 J
 ahr gültig und übertragbar </span></p><p id="E-48"> </p><p id="E-49"> </p><
 p id="E-51"><span id="E-108">Bei Fragen stehe ich dir jederzeit nach der St
 unde oder per Mail zur Verfügung: <strong>andrea.sulzmann@mamafit.at </stro
 ng></span></p><p id="E-52"> </p><p id="E-53"> </p><p id="E-57"><span id="E-
 114">Ich freue mich auf dich und dein Kind!</span></p><p> </p><p id="E-61">
 <span id="E-118">Alles Liebe, </span></p><p id="E-63"><span id="E-120">Andr
 ea, deine mamaFIT-Trainerin</span></p></div></div>
CONTACT:andrea.sulzmann@mamafit.at
X-EXTRAINFO:[preis='1400'][anmeldung='false']
DTSTAMP:20260423T211414
DTSTART:20190924T080000
DTEND:20190924T090000
SEQUENCE:0
TRANSP:OPAQUE
END:VEVENT
END:VCALENDAR