BEGIN:VCALENDAR
VERSION:2.0
PRODID:-//jEvents 2.0 for Joomla//EN
CALSCALE:GREGORIAN
METHOD:PUBLISH
BEGIN:VEVENT
UID:6694e75addf1cfebf77501221cafc4ac
CATEGORIES:3. Bezirk
CREATED:19700101T010000
SUMMARY:Eltern-Kind-Café @ dugu
LOCATION:Landstraßer Hauptstraße 13/2/ Top 18 1030 Wien
DESCRIPTION:Dugu bietet ein gemütliches und friedliches Montessori orientiertes Eltern-
 Kind-Café. Für Eltern, Großeltern, Babysitter, und alle die gerne ein paar 
 entspannte Stunden mit Kindern verbringen möchten. Sorgsam ausgewählte Spie
 lsachen, meist aus natürlichen Materialien, Platz für Bewegung und Rollensp
 iel, bieten sich für das Krabbelalter und bis zu einem Alter von 5 Jahren a
 n. Inklusive Getränke und Snacks für alle. Letzter Einlass eine Stunde vor 
 Schließung.\n \n
X-ALT-DESC;FMTTYPE=text/html:<p>Dugu bietet ein gemütliches und friedliches Montessori orientiertes Elte
 rn-Kind-Café. Für Eltern, Großeltern, Babysitter, und alle die gerne ein pa
 ar entspannte Stunden mit Kindern verbringen möchten. Sorgsam ausgewählte S
 pielsachen, meist aus natürlichen Materialien, Platz für Bewegung und Rolle
 nspiel, bieten sich für das Krabbelalter und bis zu einem Alter von 5 Jahre
 n an. Inklusive Getränke und Snacks für alle. Letzter Einlass eine Stunde v
 or Schließung.</p><p> </p>
CONTACT:info@dugu.at
DTSTAMP:20260424T003408
DTSTART:20190924T120000
DTEND:20190924T150000
SEQUENCE:0
RRULE:FREQ=WEEKLY;COUNT=14;INTERVAL=1;BYDAY=TU
TRANSP:OPAQUE
END:VEVENT
END:VCALENDAR