BEGIN:VCALENDAR
VERSION:2.0
PRODID:-//jEvents 2.0 for Joomla//EN
CALSCALE:GREGORIAN
METHOD:PUBLISH
BEGIN:VEVENT
UID:b088c60c245f49ccb0710e7e6deb68cf
CATEGORIES:3. Bezirk
CREATED:19700101T010000
SUMMARY:Eltern-Kind-Café @ dugu 
LOCATION:Landstraßer Hauptstraße 13/2/ Top 18 1030 Wien
DESCRIPTION:Dugu bietet ein gemütliches und friedliches Montessori orientiertes Eltern-
 Kind-Café. Für Eltern, Großeltern, Babysitter, und alle die gerne ein paar 
 entspannte Stunden mit Kindern verbringen möchten. Sorgsam ausgewählte Spie
 lsachen, meist aus natürlichen Materialien, Platz für Bewegung und Rollensp
 iel, bieten sich für das Krabbelalter und bis zu einem Alter von 5 Jahren a
 n. Inklusive Getränke und Snacks für alle. Letzter Einlass eine Stunde vor 
 Schließung.\n \n
X-ALT-DESC;FMTTYPE=text/html:<div class="eventContent"><p>Dugu bietet ein gemütliches und friedliches Mo
 ntessori orientiertes Eltern-Kind-Café. Für Eltern, Großeltern, Babysitter,
  und alle die gerne ein paar entspannte Stunden mit Kindern verbringen möch
 ten. Sorgsam ausgewählte Spielsachen, meist aus natürlichen Materialien, Pl
 atz für Bewegung und Rollenspiel, bieten sich für das Krabbelalter und bis 
 zu einem Alter von 5 Jahren an. Inklusive Getränke und Snacks für alle. Let
 zter Einlass eine Stunde vor Schließung.</p><p> </p></div>
CONTACT:info@dugu.at
DTSTAMP:20260424T160605
DTSTART:20190927T070000
DTEND:20190927T100000
SEQUENCE:0
RRULE:FREQ=WEEKLY;COUNT=5;INTERVAL=1;BYDAY=FR
TRANSP:OPAQUE
END:VEVENT
END:VCALENDAR