BEGIN:VCALENDAR
VERSION:2.0
PRODID:-//jEvents 2.0 for Joomla//EN
CALSCALE:GREGORIAN
METHOD:PUBLISH
BEGIN:VEVENT
UID:569e7b71ade54c35371f9bbae83988b0
CATEGORIES:3. Bezirk
CREATED:19700101T010000
SUMMARY:Entdeckungswelt für Kleinkinder @ dugu
LOCATION:Landstraßer Hauptstraße 13/2/ Top 18 1030 Wien
DESCRIPTION:In der Entdeckungswelt liegt der Fokus auf dem natürlichen Bewegungsdrang d
 er Kinder. Wir beginnen die 45-minütige Einheit mit einem gemeinsamen Begrü
 ßungslied. Danach haben die Kinder die Möglichkeit verschiedene Bewegungsla
 ndschaften zu entdecken und dabei unterschiedliche Sinneserfahrungen zu mac
 hen, um die Grobmotorik, das Körpergefühl und die Freude an der Bewegung zu
  stärken. Unterschiedliche Materialien, wie das Pikler-Dreieck, ein Tunnel,
  Tücher, Bälle und Kastanienbäder bieten Abwechslung und fördern die kindli
 che Neugier! Einstieg jederzeit möglich! Bitte in bequemer Kleidung, die de
 n Kindern Bewegungsfreiheit ermöglicht, kommen. Für Kinder vom Sitz- bzw. K
 rabbelalter bis 3 Jahre.In Begleitung eines Erwachsenen.  Kosten:15€/Einhei
 t, 10 Einheiten um 125€.
X-ALT-DESC;FMTTYPE=text/html:<div>In der Entdeckungswelt liegt der Fokus auf dem natürlichen Bewegungsdr
 ang der Kinder. Wir beginnen die 45-minütige Einheit mit einem gemeinsamen 
 Begrüßungslied. Danach haben die Kinder die Möglichkeit verschiedene Bewegu
 ngslandschaften zu entdecken und dabei unterschiedliche Sinneserfahrungen z
 u machen, um die Grobmotorik, das Körpergefühl und die Freude an der Bewegu
 ng zu stärken. Unterschiedliche Materialien, wie das Pikler-Dreieck, ein Tu
 nnel, Tücher, Bälle und Kastanienbäder bieten Abwechslung und fördern die k
 indliche Neugier!</div><div> </div><div><div>Einstieg jederzeit möglich!</d
 iv><div> </div><div>Bitte in bequemer Kleidung, die den Kindern Bewegungsfr
 eiheit ermöglicht, kommen.</div></div><div> </div><div>Für Kinder vom Sitz-
  bzw. Krabbelalter bis 3 Jahre.</div><div>In Begleitung eines Erwachsenen. 
 </div><div> </div><div><strong>Kosten:</strong></div><div>15€/Einheit, 10 E
 inheiten um 125€.</div>
CONTACT:info@dugu.at
DTSTAMP:20260423T112257
DTSTART:20191001T084500
DTEND:20191001T093000
SEQUENCE:0
RRULE:FREQ=WEEKLY;COUNT=12;INTERVAL=1;BYDAY=TU
TRANSP:OPAQUE
END:VEVENT
END:VCALENDAR