BEGIN:VCALENDAR
VERSION:2.0
PRODID:-//jEvents 2.0 for Joomla//EN
CALSCALE:GREGORIAN
METHOD:PUBLISH
BEGIN:VEVENT
UID:95bf9afef191fe9bbcf19edab166d769
CATEGORIES:9. Bezirk
CREATED:19700101T010000
SUMMARY:Kinder-Yoga (3-5 Jahre) in Drop-In-Classes ohne Anmeldung!
LOCATION:FREIRAUM-Institut\, Liechtensteinstr. 10A Ecke Türkenstraße\, 1090 Wien (U2
  Schottentor)
DESCRIPTION:Kinder-Yoga (3-5 oder 6-9 Jahre) in Drop-In-Classes\n \nDrop-In-Classes ohn
 e Anmeldung: 50 Minuten Yoga für dein Kind, wundervoll entspannend und krea
 tiv, eine fantastische Kräftigung der Muskulatur sowie viel Stärkung des Se
 lbstbewusstseins stehen hier am Programm. Für dein Kind im Alter von 3-5 bz
 w. 6-9 Jahre.\n \nYoga-Matten stellen wir kostenlos zur Verfügung.\nSonnent
 or-Bio-Tee wartet vor und nach allen unseren Drop-In-Classes ohne Anmeldung
  am Empfang auf dich!\n \nWenn Dein Kind noch nicht 3 Jahr alt ist bzw. noc
 h nicht allein in den Kurs-Raum gehen möchte, komm doch bitte ins Familien-
 Yoga:\n hier können Mama oder Papa mit dem Kind Yoga machen!e\n \nStundenpl
 an: Online hier zu finden! (https://www.freiraum-institut.at/stundenplan/)\
 n \nÖffnungszeiten (https://www.freiraum-institut.at/oeffnungszeiten/): 20-
 30 Minuten vor Beginn einer Drop-In-Class und bis 30 Minuten nach Ende der 
 Drop-In-Class!\nMittagspause im FREIRAUM-Institut: Mo-Fr von 12:00-12:30 Uh
 r\n \nHäufig gestellte Fragen / FAQ: werden hier beantwortet (https://www.f
 reiraum-institut.at/fragen-antworten/)\n \nEinzelne Drop-In-Classes gibt's 
 bei uns um € 17,-\nEin ermäßigtes 10er-Päckchen FREIRAUM-Yoga-Münzen \ngibt
 's unter anderem für Mamas oder Papas in Karenz, Babypause bzw. Mutterschut
 z um € 145,-\n \nYoga-Münzen kannst Du im FREIRAUM an den YOGA-MÜNZ-AUTOMAT
 EN kaufen (Karte bis € 25,- und Bargeld: € 5er bis € 50er) oder mit Rechnun
 g und Versand in eingeschriebenem Brief im WEBSHOP.\n \n...unsere FREIRAUM-
 Yoga-Münzen sind zeitlich unlimitiert nutzbar, können weitergeschenkt oder 
 weiterverkauft werden, sind übertragbar und können in ALLEN Drop-In-Classes
  vom FREIRAUM-Institut flexibel genutzt werden:\n1 FREIRAUM-Yoga-Münze ermö
 glicht die Teilnahme an einer beliebigen Drop-In-Class. Siehe Preisgestaltu
 ng (https://www.freiraum-institut.at/preisgestaltung/)!\n \nDie Kinder-Yoga
 -Klassen finden im Raum 1 und Raum 2 vom FREIRAUM-Institut statt.\n \n
X-ALT-DESC;FMTTYPE=text/html:<p><b>Kinder-Yoga (3-5 </b>oder<b> 6-9 Jahre) in Drop-In-Classes</b></p><p>
  </p><p><b>Drop-In-Classes ohne Anmeldung:</b> 50 Minuten Yoga für dein Kin
 d, wundervoll entspannend und kreativ, eine fantastische Kräftigung der Mus
 kulatur sowie viel Stärkung des Selbstbewusstseins stehen hier am Programm.
  Für dein Kind im Alter von 3-5 bzw. 6-9 Jahre.</p><p> </p><p><b>Yoga-Matte
 n stellen wir kostenlos zur Verfügung.</b></p><p><b>Sonnentor</b>-Bio-Tee w
 artet vor und nach allen unseren Drop-In-Classes ohne Anmeldung am Empfang 
 auf dich!</p><p> </p><p><b>Wenn Dein Kind noch nicht 3 Jahr alt ist bzw. no
 ch nicht allein in den Kurs-Raum gehen möchte</b>, komm doch bitte ins Fami
 lien-Yoga:<b><br /> </b>hier können Mama oder Papa mit dem Kind Yoga machen
 !e</p><p> </p><p>Stundenplan: <a href="https://www.freiraum-institut.at/stu
 ndenplan/">Online hier zu finden!</a></p><p> </p><p><a href="https://www.fr
 eiraum-institut.at/oeffnungszeiten/">Öffnungszeiten</a>: 20-30 Minuten vor 
 Beginn einer Drop-In-Class und bis 30 Minuten nach Ende der Drop-In-Class!<
 /p><p>Mittagspause im FREIRAUM-Institut: Mo-Fr von 12:00-12:30 Uhr</p><p> <
 /p><p>Häufig gestellte Fragen / FAQ: <a href="https://www.freiraum-institut
 .at/fragen-antworten/">werden hier beantwortet</a></p><p> </p><p><b>Einzeln
 e Drop-In-Classes</b> gibt's bei uns um € 17,-</p><p>Ein <b>ermäßigtes 10er
 -Päckchen FREIRAUM-Yoga-Münzen</b><span class="Apple-converted-space"> </sp
 an></p><p>gibt's unter anderem für Mamas oder Papas in Karenz, Babypause bz
 w. Mutterschutz um € 145,-</p><p> </p><p>Yoga-Münzen kannst Du im FREIRAUM 
 an den <b>YOGA-MÜNZ-AUTOMATEN</b> kaufen (Karte bis € 25,- und Bargeld: € 5
 er bis € 50er) <b>oder mit Rechnung und Versand in eingeschriebenem Brief i
 m WEBSHOP.</b></p><p> </p><p>...unsere FREIRAUM-Yoga-Münzen sind <b>zeitlic
 h unlimitiert nutzbar</b>, können <b>weitergeschenkt</b> oder <b>weiterverk
 auft</b> werden, sind <b>übertragbar</b> und <b>können in ALLEN Drop-In-Cla
 sses vom FREIRAUM-Institut flexibel genutzt werden:</b></p><p>1 FREIRAUM-Yo
 ga-Münze ermöglicht die Teilnahme an einer beliebigen Drop-In-Class. <a hre
 f="https://www.freiraum-institut.at/preisgestaltung/">Siehe Preisgestaltung
 </a>!</p><p> </p><p>Die Kinder-Yoga-Klassen finden im Raum 1 und Raum 2 vom
  FREIRAUM-Institut statt.</p><p> </p>
CONTACT:https://www.freiraum-institut.at/stundenplan/kinder-yoga-3-5-jahre
X-EXTRAINFO:[preis='1700'][anmeldung='false']
DTSTAMP:20260426T012756
DTSTART:20190926T150000
DTEND:20190926T155000
SEQUENCE:0
RRULE:FREQ=WEEKLY;UNTIL=20200628T000000Z;INTERVAL=1;BYDAY=TH,TH,TH,TH,TH
TRANSP:OPAQUE
END:VEVENT
END:VCALENDAR