BEGIN:VCALENDAR
VERSION:2.0
PRODID:-//jEvents 2.0 for Joomla//EN
CALSCALE:GREGORIAN
METHOD:PUBLISH
BEGIN:VEVENT
UID:6c1c92746c745c4afe5bf85372623b47
CATEGORIES:15. Bezirk
CREATED:19700101T010000
SUMMARY:TANZ UND BEWEGUNG FÜR ELTERN UND KINDER VON 1½ BIS 3½ JAHREN
LOCATION:Neubaugürtel 7
DESCRIPTION:…unbeschwert miteinander laufen und hüpfen, stampfen und klatschen, rollen 
 und springen, spielen mit Bällen, Tüchern, Seilen, Säcken, …Bewegungsspiele
  und einfache Kreistänze lassen „Grosse“ und „Kleine“ mit- und voneinander 
 lernen und ganz einfach vergnügt sein.\nWir  freuen uns auf tanzbegeisterte
  Kinder und ihre Eltern.\nLeitung: Bitti Marina Jurda\nKosten: 165 Euro für
  13 Nachmittage\n
X-ALT-DESC;FMTTYPE=text/html:<p>…unbeschwert miteinander laufen und hüpfen, stampfen und klatschen, roll
 en und springen, spielen mit Bällen, Tüchern, Seilen, Säcken, …Bewegungsspi
 ele und einfache Kreistänze lassen „Grosse“ und „Kleine“ mit- und voneinand
 er lernen und ganz einfach vergnügt sein.<br />Wir  freuen uns auf tanzbege
 isterte Kinder und ihre Eltern.</p><p>Leitung: Bitti Marina Jurda<br />Kost
 en: 165 Euro für 13 Nachmittage</p>
CONTACT:office@kinderatelier.at
X-EXTRAINFO:[preis='16500'][anmeldung='true']
DTSTAMP:20260423T144119
DTSTART:20190925T143000
DTEND:20190925T160000
SEQUENCE:0
RRULE:FREQ=WEEKLY;COUNT=13;INTERVAL=1;BYDAY=WE
TRANSP:OPAQUE
END:VEVENT
END:VCALENDAR