BEGIN:VCALENDAR
VERSION:2.0
PRODID:-//jEvents 2.0 for Joomla//EN
CALSCALE:GREGORIAN
METHOD:PUBLISH
BEGIN:VEVENT
UID:e0960ed8f6f69738a7a92624fb936f8a
CATEGORIES:15. Bezirk
CREATED:20190925T095311
SUMMARY:„IN DER KÜCHE/ AUS DER KÜCHE“, Tanz, Musik & Rhythmus
LOCATION:Neubaugürtel 7
DESCRIPTION:…in der Küche Musik machen:\nKochlöffel schwingen, auf Töpfen trommeln, auf
  Trommeln kochen , mit Besteck klappern,\n…mit kleinen &amp; großen Besen t
 anzen, …Bälle kehren und wischen,\n…Fetzen-Samba tanzen, Nudeltänze erfinde
  und die Apfelmus-Geschichte?\n…Lieblingsgerichte klatschen, stampfen, klop
 fen,\n… mit Wäschekluppen rennen, sich drehen wie in der Waschmaschine, …\n
 jenseits von Haushaltspflichten ist in der „Küche“ Raum für viel Musik, lus
 tige Ideen, Spaß und Bewegungsfreude.\nWir freuen uns auf Euch!\nKosten: 28
  Euro für einen Erwachsenen und ein Kind, 5 Euro für jede weitere Person.\n
 Unsere Zielgruppe sind Kinder zwischen 2 und 6 Jahren mit ihren Eltern, jün
 gere und ältere Geschwister sind herzlich willkommen.\n
X-ALT-DESC;FMTTYPE=text/html:<p>…in der Küche Musik machen:<br />Kochlöffel schwingen, auf Töpfen tromme
 ln, auf Trommeln kochen , mit Besteck klappern,<br />…mit kleinen &amp; gro
 ßen Besen tanzen, …Bälle kehren und wischen,<br />…Fetzen-Samba tanzen, Nud
 eltänze erfinde und die Apfelmus-Geschichte?<br />…Lieblingsgerichte klatsc
 hen, stampfen, klopfen,<br />… mit Wäschekluppen rennen, sich drehen wie in
  der Waschmaschine, …<br />jenseits von Haushaltspflichten ist in der „Küch
 e“ Raum für viel Musik, lustige Ideen, Spaß und Bewegungsfreude.<br />Wir f
 reuen uns auf Euch!</p><p>Kosten: 28 Euro für einen Erwachsenen und ein Kin
 d, 5 Euro für jede weitere Person.<br />Unsere Zielgruppe sind Kinder zwisc
 hen 2 und 6 Jahren mit ihren Eltern, jüngere und ältere Geschwister sind he
 rzlich willkommen.</p>
CONTACT:office@kinderatelier.at
X-EXTRAINFO:[preis='2800'][anmeldung='true']
DTSTAMP:20260425T184459
DTSTART:20191006T080000
DTEND:20191006T110000
SEQUENCE:0
TRANSP:OPAQUE
END:VEVENT
END:VCALENDAR