BEGIN:VCALENDAR
VERSION:2.0
PRODID:-//jEvents 2.0 for Joomla//EN
CALSCALE:GREGORIAN
METHOD:PUBLISH
BEGIN:VEVENT
UID:08864bd337ef703ec6e58a5d76883e9c
CATEGORIES:15. Bezirk
CREATED:20190925T095637
SUMMARY:„ZAPFEN, FRÜCHTE, BUNTE BLÄTTER“, Werkstatt NaturMaterial
LOCATION:Löhrgasse 10
DESCRIPTION:… Zapfen, Früchte, Bunte Blätter, Nüsse, Kastanien, Eicheln,  Bucheckern, S
 amen, Stängel:\nso viele Materialien hält der Herbst bereit!\n…  aus-Herbst
 -Blättern bunte Bilder kleben, … Eicheln, Kastanien, Früchte,… bohren, stec
 ken, fädeln, …hantieren mit Moos, Holz und Rinde, , …mit Ton kneten und bau
 en, …mit Draht, Holz und Schnur experimentieren, …Späne, Sand und Erde schü
 tten, …\n…denn ein Kastanien-Manderl ist nicht genug!  Willkommen zum Werke
 n und Basteln in all der Herbst-Fülle!\nKosten: 35 Euro für einen Erwachsen
 en und ein Kind, 5 Euro für jede weitere Person.\nUnsere Zielgruppe sind Ki
 nder zwischen 2 und 6 Jahren mit ihren Eltern, jüngere und ältere Geschwist
 er sind herzlich willkommen.\n
X-ALT-DESC;FMTTYPE=text/html:<p>… Zapfen, Früchte, Bunte Blätter, Nüsse, Kastanien, Eicheln,  Bucheckern
 , Samen, Stängel:<br />so viele Materialien hält der Herbst bereit!<br />… 
  aus-Herbst-Blättern bunte Bilder kleben, … Eicheln, Kastanien, Früchte,… b
 ohren, stecken, fädeln, …hantieren mit Moos, Holz und Rinde, , …mit Ton kne
 ten und bauen, …mit Draht, Holz und Schnur experimentieren, …Späne, Sand un
 d Erde schütten, …<br />…denn ein Kastanien-Manderl ist nicht genug!  Willk
 ommen zum Werken und Basteln in all der Herbst-Fülle!</p><p>Kosten: 35 Euro
  für einen Erwachsenen und ein Kind, 5 Euro für jede weitere Person.<br />U
 nsere Zielgruppe sind Kinder zwischen 2 und 6 Jahren mit ihren Eltern, jüng
 ere und ältere Geschwister sind herzlich willkommen.</p>
CONTACT:office@kinderatelier.at
X-EXTRAINFO:[preis='3500'][anmeldung='true']
DTSTAMP:20260425T184418
DTSTART:20191020T080000
DTEND:20191020T110000
SEQUENCE:0
TRANSP:OPAQUE
END:VEVENT
END:VCALENDAR