BEGIN:VCALENDAR
VERSION:2.0
PRODID:-//jEvents 2.0 for Joomla//EN
CALSCALE:GREGORIAN
METHOD:PUBLISH
BEGIN:VEVENT
UID:dbe422ee57de3a896173fc7ba9d62e54
CATEGORIES:22. Bezirk
CREATED:20190927T235631
SUMMARY:mamaFIT im Donaupark - Pumpkinworkout-Special
LOCATION:Donaupark\, Parkeingang neben dem Chinesen i. d. Arbeiterstrandbadstraße 12
 2\, 1220 Wien
DESCRIPTION:mamaFIT mit Simone KURSINFOS\nBei dem Mix aus Ausdauer, Kraft, Koordination
  und Stretching liegt der Hauptfokus auf rückbildungsorientiertem Kraftwork
 out. Zwischen den einzelnen Kräftigungsstationen wird flott marschiert.\n \
 nmamaFIT mit Simone-Kurse finden als gemischte Kurse statt, d.h. Schwangere
 , Jungmamas, sowie Mamas oder andere Begleitpersonen ohne Kinder trainieren
  alle in einem Kurs und bekommen nach Leistungszustand individuell abgewand
 elte Übungsvarianten.\n \n \nVERANSTALTUNGSORT u. -ZEIT\n10:00 – 11:00 Uhr 
     DONAUPARK (U1 Alte Donau)\n \nTreffpunkt Parkeingang neben dem Chinesen
  in der Arbeiterstrandbadstraße\n \n??PUMPKINWORKOUT - KÜRBISWORKOUT??\nOkt
 ober ist Herbstzeit und Herbstzeit ist Kürbiszeit! Und deshalb trainieren w
 ir in den ersten beiden Oktoberwochen mit einem Kürbis. Je einen Trainingsb
 lock wird dem Kürbisworkout vorbehalten sein.\n \nBitte bringe im Zeitraum 
 30.9. - 11.10. deinen Trainingskürbis mit. Wähle am besten ein Gewicht, das
 s du noch gut in einer Hand stemmen kannst, so sind wir im Training flexibl
 er. Es empfiehlt sich ein Gewicht zwischen 0,5 und 1,5 kg!\n \nBist du so g
 ar kein Fan vom Kürbis, kannst du alternativ natürlich auch eine Wasserflas
 che als Trainingsgewicht mitnehmen. \n \n DEINE VORTEILE \n\n - das mamaFIT
  Kurssystem ist so flexibel, wie Mamas es benötigen\n - mamaFIT hält, was e
 s verspricht – es macht dich als Mama wieder FIT!\n - Einsteigen ist jederz
 eit möglich, ganz ohne Bindung, ohne Voranmeldung\n - Kurskarten (Einzel/ 5
 er Block/ 10er Block) sind übertragbar und flexibel bei ALLEN mamaFIT mit S
 imone-Kursen nutzbar\n - mamaFIT bringt dich wieder in Schwung, formt deine
 n Körper und lässt deine Kilos purzeln\n - bei mamaFIT ist dir der Spaß an 
 der Bewegung in der Natur sicher\n - mamaFIT ist ein sicheres, erprobtes Tr
 ainingskonzept nach den neuesten medizinischen und sportwissenschaftlichen 
 Erkenntnissen \nFür die Kursteilnahme ist keine Voranmeldung nötig, komm ei
 nfach zum Treffpunkt im Park und mach mit! Für tagesaktuelle News (u.a. Kur
 sabsagen) habe ich eine WhatsApp-Gruppe eingerichtet. Möchtest du diesen In
 fokanal beziehen, dann schreib mir ein Nachricht an 0699 119 22 530, dann s
 chicke ich dir den Beitrittslink.\n \n \nMEINE TRAININGS IM ÜBERBLICK\nMo. 
      10:00 - 11:00 Uhr       Rudolf-Bednar-Park (U1 Vorgartenstraße)\nMi.  
      10:00 - 11:00 Uhr       Donaupark (U1 Alte Donau)\nDo.      10:00 - 11
 :00 Uhr       Alois-Drasche-Park (U1 Hauptbahnhof)\nFr.       10:00 - 11:00
  Uhr       Resselpark (U1 Karlsplatz)\n \nmamaFIT mit Simone findet in Park
 s entlang der Linie U1 statt. Mamas ist es so einfach möglich, die verschie
 denen Kurslocations mit einer U-Bahn zu erreichen. Nach Verlassen der U-Bah
 n sind alle Parks innerhalb von etwa 15 min zu Fuß zu erreichen.  \n \nKOST
 EN\nEinzelstunde à 15 €\n5er Block à 65 €\n10er Block à 120 €\nBarzahlung v
 or Ort, Kurskarten sind ein Jahr gültig ab Ausstellung, übertragbar und bei
  allen meiner mamaFIT-Kurse einlösbar\n \nFÜR WEN\nMamas (frühestens 6-8 Wo
 chen nach der Geburt, bei Kaiserschnittgeburt etwa 12 Wochen nach der Gebur
 t) und Schwangere, sowie alle, die sich gerne mit Mamas sportlich betätigen
  wollen (Papas, Omas, Opas, Freunde, ...)\n \n\nSONSTIGES NÜTZLICHES\nDas T
 raining findet bei (fast) jedem Wetter ganzjährig outdoor statt. Bitte zieh
 e entsprechende funktionelle Outdoorbekleidung an, nimm ein Getränk, Regen-
 /Sonnenschutz für dich und dein Baby bzw. Regencover für den Kinderwagen mi
 t! Als Alternative zum Kinderwagen ist eine Tragehilfe ratsam (wechselst du
  während der mamaFIT Einheit, biete ich dir einfach eine alternative Übung 
 an). Hast du keine Trage – kein Problem, ich habe meistens meine Tragen (Ma
 nduca, Ergobaby Adapt) zum ausborgen dabei. In der kälteren Jahreszeit empf
 ehle ich eine Isomatte, Stoffwindel, Wickelunterlage, Yogadecke o.ä. zum un
 terlegen mitzunehmen. Eine Picknickdecke zum Jausnen nach dem Training ist 
 für die wärmere Jahreszeit ganz schön.\nwww.simone-preiner.at (https://www.
 simone-preiner.at/)\nwww.mamafit.at/trainer/simone-preiner (http://www.mama
 fit.at/trainer/simone-preiner)\nwww.facebook.com/groups/mamafitmitsimone (h
 ttp://www.facebook.com/groups/mamafitmitsimone)\nwww.instagram.com/mamafitm
 itsimone (https://www.instagram.com/mamafitmitsimone/)\n
X-ALT-DESC;FMTTYPE=text/html:<p><strong>mamaFIT mit Simone KURSINFOS</strong></p><p>Bei dem Mix aus Ausd
 auer, Kraft, Koordination und Stretching liegt der Hauptfokus auf rückbildu
 ngsorientiertem Kraftworkout. Zwischen den einzelnen Kräftigungsstationen w
 ird flott marschiert.</p><p> </p><p>mamaFIT mit Simone-Kurse finden als gem
 ischte Kurse statt, d.h. Schwangere, Jungmamas, sowie Mamas oder andere Beg
 leitpersonen ohne Kinder trainieren alle in einem Kurs und bekommen nach Le
 istungszustand individuell abgewandelte Übungsvarianten.</p><p> </p><p> </p
 ><p><strong>VERANSTALTUNGSORT u. -ZEIT</strong></p><p>10:00 – 11:00 Uhr    
  DONAUPARK (U1 Alte Donau)</p><p> </p><p><strong>Treffpunkt</strong> Parkei
 ngang neben dem Chinesen in der Arbeiterstrandbadstraße</p><p> </p><p>??<st
 rong>PUMPKINWORKOUT - KÜRBISWORKOUT</strong>??</p><p>Oktober ist Herbstzeit
  und Herbstzeit ist Kürbiszeit! Und deshalb trainieren wir in den ersten be
 iden Oktoberwochen mit einem Kürbis. Je einen Trainingsblock wird dem Kürbi
 sworkout vorbehalten sein.</p><p> </p><p><strong>Bitte bringe</strong> im Z
 eitraum 30.9. - 11.10. <strong>deinen Trainingskürbis mit</strong>. Wähle a
 m besten ein Gewicht, dass du noch gut in einer Hand stemmen kannst, so sin
 d wir im Training flexibler. Es empfiehlt sich ein Gewicht zwischen 0,5 und
  1,5 kg!</p><p> </p><p>Bist du so gar kein Fan vom Kürbis, kannst du altern
 ativ natürlich auch eine Wasserflasche als Trainingsgewicht mitnehmen. </p>
 <p> </p><p><strong> DEINE VORTEILE </strong></p><ul><li>das mamaFIT Kurssys
 tem ist so <strong>flexibel</strong>, wie Mamas es benötigen</li><li>mamaFI
 T hält, was es verspricht – es <em>macht dich </em>als Mama wieder <em>FIT<
 /em>!</li><li><strong>Einsteigen ist</strong> <strong>jederzeit möglich</st
 rong>, ganz ohne Bindung, ohne Voranmeldung</li><li><strong>Kurskarten </st
 rong>(Einzel/ 5er Block/ 10er Block) sind <strong>übertragbar</strong> und 
 <strong>flexibel</strong> bei ALLEN mamaFIT mit Simone-Kursen nutzbar</li><
 li>mamaFIT bringt dich wieder in Schwung, <strong>formt </strong>deinen Kör
 per und lässt deine <strong>Kilos</strong> <strong>purzeln</strong></li><li
 >bei mamaFIT ist dir der Spaß an der Bewegung <strong>in der Natur </strong
 >sicher</li><li>mamaFIT ist ein <strong>sicheres</strong>, erprobtes <stron
 g>Trainingskonzept </strong>nach den neuesten medizinischen und sportwissen
 schaftlichen Erkenntnissen</li></ul><p> </p><p>Für die Kursteilnahme ist <s
 trong>keine Voranmeldung nötig</strong>, komm einfach zum Treffpunkt im Par
 k und mach mit! Für tagesaktuelle News (u.a. Kursabsagen) habe ich eine Wha
 tsApp-Gruppe eingerichtet. Möchtest du diesen Infokanal beziehen, dann schr
 eib mir ein Nachricht an 0699 119 22 530, dann schicke ich dir den Beitritt
 slink.</p><p> </p><p> </p><p><strong>MEINE TRAININGS IM ÜBERBLICK</strong><
 /p><p>Mo.      10:00 - 11:00 Uhr       Rudolf-Bednar-Park (U1 Vorgartenstra
 ße)<br />Mi.       10:00 - 11:00 Uhr       Donaupark (U1 Alte Donau)<br />D
 o.      10:00 - 11:00 Uhr       Alois-Drasche-Park (U1 Hauptbahnhof)<br />F
 r.       10:00 - 11:00 Uhr       Resselpark (U1 Karlsplatz)</p><p> </p><p>m
 amaFIT mit Simone findet <strong>in Parks entlang der Linie U1</strong> sta
 tt. Mamas ist es so einfach möglich, die verschiedenen Kurslocations mit ei
 ner U-Bahn zu erreichen. Nach Verlassen der U-Bahn sind alle Parks innerhal
 b von etwa 15 min zu Fuß zu erreichen.  </p><p> </p><p><strong>KOSTEN</stro
 ng></p><p>Einzelstunde à 15 €<br />5er Block à 65 €<br />10er Block à 120 €
 </p><p>Barzahlung vor Ort, Kurskarten sind ein Jahr gültig ab Ausstellung, 
 übertragbar und bei allen meiner mamaFIT-Kurse einlösbar</p><p> </p><p><str
 ong>FÜR WEN</strong></p><p>Mamas (frühestens 6-8 Wochen nach der Geburt, be
 i Kaiserschnittgeburt etwa 12 Wochen nach der Geburt) und Schwangere, sowie
  alle, die sich gerne mit Mamas sportlich betätigen wollen (Papas, Omas, Op
 as, Freunde, ...)</p><p> </p><p><br /><strong>SONSTIGES NÜTZLICHES</strong>
 </p><p>Das Training findet bei (fast) jedem Wetter <strong>ganzjährig outdo
 or</strong> statt. Bitte ziehe entsprechende funktionelle Outdoorbekleidung
  an, nimm ein Getränk, Regen-/Sonnenschutz für dich und dein Baby bzw. Rege
 ncover für den Kinderwagen mit! Als Alternative zum Kinderwagen ist eine Tr
 agehilfe ratsam (wechselst du während der mamaFIT Einheit, biete ich dir ei
 nfach eine alternative Übung an). Hast du keine Trage – kein Problem, ich h
 abe meistens meine Tragen (Manduca, Ergobaby Adapt) zum ausborgen dabei. In
  der kälteren Jahreszeit empfehle ich eine Isomatte, Stoffwindel, Wickelunt
 erlage, Yogadecke o.ä. zum unterlegen mitzunehmen. Eine Picknickdecke zum J
 ausnen nach dem Training ist für die wärmere Jahreszeit ganz schön.</p><p><
 a href="https://www.simone-preiner.at/" target="_blank" rel="noopener noref
 errer">www.simone-preiner.at</a></p><p><a href="http://www.mamafit.at/train
 er/simone-preiner">www.mamafit.at/trainer/simone-preiner</a></p><p><a href=
 "http://www.facebook.com/groups/mamafitmitsimone">www.facebook.com/groups/m
 amafitmitsimone</a></p><p><a href="https://www.instagram.com/mamafitmitsimo
 ne/" target="_blank" rel="noopener noreferrer">www.instagram.com/mamafitmit
 simone</a></p>
CONTACT:Mag. Simone Preiner | +43 699 119 22 530 | simone.preiner@mamafit.at | http://www.simone-preiner.at (http://www.simone-preiner.at)
X-EXTRAINFO:[preis='1200'][anmeldung='false']
DTSTAMP:20260423T182358
DTSTART:20191002T080000
DTEND:20191002T090000
SEQUENCE:0
TRANSP:OPAQUE
END:VEVENT
END:VCALENDAR