BEGIN:VCALENDAR
VERSION:2.0
PRODID:-//jEvents 2.0 for Joomla//EN
CALSCALE:GREGORIAN
METHOD:PUBLISH
BEGIN:VEVENT
UID:a746e08529448d76cd95f4edc54b0c3e
CATEGORIES:4. Bezirk
CREATED:19700101T010000
SUMMARY:Mama Baby YOGA
LOCATION:Studio YOGINIS
DESCRIPTION: Bei Mama &amp; Baby Yoga haben Mutter und Baby die Möglichkeit, mittels ge
 meinsamer Körper- und Entspannungsübungen zusammen eine harmonische und gel
 öste Zeit der intensiven Nähe zu erleben. Die Yogaübungen helfen der Mutter
  nach der Geburt, wieder ein gutes Körpergefühl zu entwickeln und die Bauch
 -, Gesäß-, und Beinmuskulatur zu straffen und zu kräftigen. \nDas Baby kann
  in die Übungen mit einbezogen werden, oder aber auch in Ruhe schlafen oder
  bei den Übungen zusehen.\nBitte nur Babys bis Krabbelalter. (Danach im Don
 nerstagkurs)\n
X-ALT-DESC;FMTTYPE=text/html:<p><span style="display: inline !important; float: none; background-color: 
 #ffffff; color: #333333; font-family: '&amp;quot',serif; font-size: 12.13px
 ; font-style: normal; font-variant: normal; font-weight: 400; letter-spacin
 g: normal; orphans: 2; text-align: left; text-decoration: none; text-indent
 : 0px; text-transform: none; -webkit-text-stroke-width: 0px; white-space: n
 ormal; word-spacing: 0px;"> Bei Mama &amp; Baby Yoga haben Mutter und Baby 
 die Möglichkeit, mittels gemeinsamer Körper- und Entspannungsübungen zusamm
 en eine harmonische und gelöste Zeit der intensiven Nähe zu erleben. </span
 ><span style="font-family: '&amp;quot',serif;">Die Yogaübungen helfen der M
 utter nach der Geburt, wieder ein gutes Körpergefühl zu entwickeln und die 
 Bauch-, Gesäß-, und Beinmuskulatur zu straffen und zu kräftigen.</span><spa
 n style="color: hsl(0, 0%, 100%);"> </span></p><p style="margin: 0cm; margi
 n-bottom: .0001pt;"><span style="font-family: '&amp;quot',serif;">Das Baby 
 kann in die Übungen mit einbezogen werden, oder aber auch in Ruhe schlafen 
 oder bei den Übungen zusehen.</span></p><p><span style="font-family: '&amp;
 quot',serif;">Bitte nur Babys bis Krabbelalter. </span><span style="font-fa
 mily: '&amp;quot',serif;">(Danach im Donnerstagkurs)</span></p>
CONTACT:Angelika Kittel
DTSTAMP:20260423T113344
DTSTART:20191007T080000
DTEND:20191007T090000
SEQUENCE:0
RRULE:FREQ=WEEKLY;UNTIL=20191217T000000Z;INTERVAL=1;BYDAY=MO
TRANSP:OPAQUE
END:VEVENT
END:VCALENDAR