BEGIN:VCALENDAR
VERSION:2.0
PRODID:-//jEvents 2.0 for Joomla//EN
CALSCALE:GREGORIAN
METHOD:PUBLISH
BEGIN:VEVENT
UID:f5a50215d758d95ed27d482a3cfd7996
CATEGORIES:4. Bezirk
CREATED:19700101T010000
SUMMARY:SchwangerenYOGA
LOCATION:Studio YOGINIS Waaggasse 12
DESCRIPTION:Unsere Schwangerenyogastunden sind ganz auf die Bedürfnisse und das Wohlbef
 inden der werdenden Mutter ausgerichtet und der Fokus der Stunde ist Entspa
 nnung und die Verbindung mit dem Baby!\n \nYoga in der Schwangerschaft bere
 itet die Frau auf die bevorstehende Geburt vor. Es dehnt und stärkt den Kör
 per und entspannt Geist und Emotionen. Es verbindet die werdende Mutter mit
  ihrer sanften, weiblichen Seite, entwickelt tiefste Intuition, Selbstbewus
 stheit im persönlichen Leben und den ureigenen Mutterinstinkt.\n \nEs unter
 stützt die Frau, eine gesunde Beziehung zum eigenen Körper zu behalten, zu 
 dem darin heranwachsenden Leben aufzubauen und sich dabei auf körperlicher 
 und mentaler Ebene auf die Geburt vorzubereiten!\n
X-ALT-DESC;FMTTYPE=text/html:<p style="margin: 0cm; margin-bottom: .0001pt;"><span style="font-family: '
 Verdana',sans-serif;">Unsere Schwangerenyogastunden sind ganz auf die Bedür
 fnisse und das Wohlbefinden der werdenden Mutter ausgerichtet und der Fokus
  der Stunde ist Entspannung und die Verbindung mit dem Baby!</span></p><p s
 tyle="margin: 0cm; margin-bottom: .0001pt;"> </p><p style="margin: 0cm; mar
 gin-bottom: .0001pt;">Yoga in der Schwangerschaft bereitet die Frau auf die
  bevorstehende Geburt vor. Es dehnt und stärkt den Körper und entspannt Gei
 st und Emotionen. Es verbindet die werdende Mutter mit ihrer sanften, weibl
 ichen Seite, entwickelt tiefste Intuition, Selbstbewusstheit im persönliche
 n Leben und den ureigenen Mutterinstinkt.</p><p style="margin: 0cm; margin-
 bottom: .0001pt;"> </p><p style="margin: 0cm; margin-bottom: .0001pt;">Es u
 nterstützt die Frau, eine gesunde Beziehung zum eigenen Körper zu behalten,
  zu dem darin heranwachsenden Leben aufzubauen und sich dabei auf körperlic
 her und mentaler Ebene auf die Geburt vorzubereiten!</p>
CONTACT:Angelika Kittel
DTSTAMP:20260423T113442
DTSTART:20191007T093000
DTEND:20191007T104500
SEQUENCE:0
RRULE:FREQ=WEEKLY;UNTIL=20191217T000000Z;INTERVAL=1;BYDAY=MO
TRANSP:OPAQUE
END:VEVENT
END:VCALENDAR