BEGIN:VCALENDAR
VERSION:2.0
PRODID:-//jEvents 2.0 for Joomla//EN
CALSCALE:GREGORIAN
METHOD:PUBLISH
BEGIN:VEVENT
UID:512c80ae58a8375f987c348364e5dd14
CATEGORIES:2. Bezirk
CREATED:20191001T155635
SUMMARY:Sexuelle Bildung - Von Anfang an!
LOCATION:Leystraße 159/2.35 1020 Wien
DESCRIPTION:<p style="text-align: justify;">Alle Menschen werden als sexuelle Wesen geb
 oren. Vielen Eltern macht dieser Gedanke Angst, weil sie ihre Kinder natürl
 icherweise schützen wollen. Beim Thema kindliche sexuelle Entwicklung ist j
 edoch am wichtigsten, zu begreifen, dass kindliche Sexualität nichts mit de
 m zu tun hat, was Erwachsene unter Sexualität verstehen.</p><p style="text-
 align: justify;">In diesem Vortrag geht es darum, die kindliche sexuelle En
 twicklung als Teil des Heranwachsens von Menschen verstehen zu lernen. Elte
 rn und andere Bezugspersonen können hier erfahren, wie sie von Geburt an im
  Erziehungsalltag adäquat bei der sexuellen Bildung eines Kindes unterstütz
 en können. Durch einen altersgerechten Umgang mit Sexualität kann ein wicht
 iger Schutz vor (sexueller) Gewalt geleistet und Kinder zu selbstbestimmten
  Erwachsenen erzogen werden.</p><p style="text-align: justify;">Preis: 30€/
 Person, Paare zahlen insgesamt 50€<br />Sondertarife sind nach Absprache mö
 glich.</p><p style="text-align: justify;">Anmeldungen an: conny@gefuehlsech
 t.at</p>
CONTACT:conny@gefuehlsecht.at
DTSTAMP:20260423T184611
DTSTART:20191023T070000
DTEND:20191023T090000
SEQUENCE:0
TRANSP:OPAQUE
END:VEVENT
END:VCALENDAR