BEGIN:VCALENDAR
VERSION:2.0
PRODID:-//jEvents 2.0 for Joomla//EN
CALSCALE:GREGORIAN
METHOD:PUBLISH
BEGIN:VEVENT
UID:c1427427a80d0d8ea9f60eb669627d04
CATEGORIES:Wien Umgebung
CREATED:20191002T185423
SUMMARY:Zyklusworkshop
LOCATION:Hauptstraße 43-47/6\, 2340 Mödling
DESCRIPTION:In diesem Workshop befassen wir uns mit dem weiblichen* Körper und lernen d
 ie vielen Facetten des weiblichen* Zyklus kennen. Gemeinsam reflektieren wi
 r in einem angenehmen und gemütlichen Rahmen den eigenen Umgang mit dem Zyk
 lus und lernen, wie die inneren Kraftquellen der verschiedenen Zyklusphasen
  genutzt werden können. Es wird genügend Zeit sein, damit alle offenen Frag
 en und Ängste besprochen werden können. Kosten: 60€ inklusive Snacks und Ge
 tränken!Ort: Hauptstraße 43-47/6, MödlingAnmeldung: conny@gefuehlsecht.atNä
 here Infos: www.gefuehlsecht.at
X-ALT-DESC;FMTTYPE=text/html:<div class="entry-content clearfix"><div class="" data-block="true" data-ed
 itor="8gsgj" data-offset-key="1t2ri-0-0"><div class="_1mf _1mj" data-offset
 -key="1t2ri-0-0"><span data-offset-key="1t2ri-0-0">In diesem Workshop befas
 sen wir uns mit dem weiblichen* Körper und lernen die vielen Facetten des w
 eiblichen* Zyklus kennen. Gemeinsam reflektieren wir in einem angenehmen un
 d gemütlichen Rahmen den eigenen Umgang mit dem Zyklus und lernen, wie die 
 inneren Kraftquellen der verschiedenen Zyklusphasen genutzt werden können.<
 /span></div></div><div class="" data-block="true" data-editor="8gsgj" data-
 offset-key="93rfk-0-0"><div class="_1mf _1mj" data-offset-key="93rfk-0-0"><
 span data-offset-key="93rfk-0-0"> </span></div></div><div class="" data-blo
 ck="true" data-editor="8gsgj" data-offset-key="7ielv-0-0"><div class="_1mf 
 _1mj" data-offset-key="7ielv-0-0"><span data-offset-key="7ielv-0-0">Es wird
  genügend Zeit sein, damit alle offenen Fragen und Ängste besprochen werden
  können.</span></div></div><div class="" data-block="true" data-editor="8gs
 gj" data-offset-key="f4hr4-0-0"><div class="_1mf _1mj" data-offset-key="f4h
 r4-0-0"><span data-offset-key="f4hr4-0-0"> </span></div></div><div class=""
  data-block="true" data-editor="8gsgj" data-offset-key="bgkdp-0-0"><div cla
 ss="_1mf _1mj" data-offset-key="bgkdp-0-0"><span data-offset-key="bgkdp-0-0
 ">Kosten: 60€ inklusive Snacks und Getränken!</span></div></div><div class=
 "" data-block="true" data-editor="8gsgj" data-offset-key="32ovd-0-0"><div c
 lass="_1mf _1mj" data-offset-key="32ovd-0-0"><span data-offset-key="32ovd-0
 -0">Ort: Hauptstraße 43-47/6, Mödling</span></div></div><div class="" data-
 block="true" data-editor="8gsgj" data-offset-key="5oi4j-0-0"><div class="_1
 mf _1mj" data-offset-key="5oi4j-0-0"><span data-offset-key="5oi4j-0-0">Anme
 ldung: conny@gefuehlsecht.at</span></div></div><div class="" data-block="tr
 ue" data-editor="8gsgj" data-offset-key="a2gfb-0-0"><div class="_1mf _1mj" 
 data-offset-key="a2gfb-0-0"><span data-offset-key="a2gfb-0-0">Nähere Infos:
  www.gefuehlsecht.at</span></div></div><footer class="timely ai1ec-event-fo
 oter"></footer></div><footer class="entry-footer"></footer>
CONTACT:conny@gefuehlsecht.at
X-EXTRAINFO:[preis='6000'][anmeldung='false']
DTSTAMP:20260425T145034
DTSTART:20191122T160000
DTEND:20191122T190000
SEQUENCE:0
TRANSP:OPAQUE
END:VEVENT
END:VCALENDAR