BEGIN:VCALENDAR
VERSION:2.0
PRODID:-//jEvents 2.0 for Joomla//EN
CALSCALE:GREGORIAN
METHOD:PUBLISH
BEGIN:VEVENT
UID:d055f922c44a2cedc54eaf48eb3d14a0
CATEGORIES:2. Bezirk
CREATED:20191002T185808
SUMMARY:Sexuelle Bildung - Von Anfang an!
LOCATION:Leystraße 159/2.35 1020 Wien
DESCRIPTION:Alle Menschen werden als sexuelle Wesen geboren. Vielen Eltern macht dieser
  Gedanke Angst, weil sie ihre Kinder natürlicherweise schützen wollen. Beim
  Thema kindliche sexuelle Entwicklung ist jedoch am wichtigsten, zu begreif
 en, dass kindliche Sexualität nichts mit dem zu tun hat, was Erwachsene unt
 er Sexualität verstehen.\nIn diesem Vortrag geht es darum, die kindliche se
 xuelle Entwicklung als Teil des Heranwachsens von Menschen verstehen zu ler
 nen. Eltern und andere Bezugspersonen können hier erfahren, wie sie von Geb
 urt an im Erziehungsalltag adäquat bei der sexuellen Bildung eines Kindes u
 nterstützen können. Durch einen altersgerechten Umgang mit Sexualität kann 
 ein wichtiger Schutz vor (sexueller) Gewalt geleistet und Kinder zu selbstb
 estimmten Erwachsenen erzogen werden.\nPreis: 30€/Person, Paare zahlen insg
 esamt 50€\nSondertarife sind nach Absprache möglich.\nAnmeldungen an: conny
 @gefuehlsecht.at\n
X-ALT-DESC;FMTTYPE=text/html:<p>Alle Menschen werden als sexuelle Wesen geboren. Vielen Eltern macht die
 ser Gedanke Angst, weil sie ihre Kinder natürlicherweise schützen wollen. B
 eim Thema kindliche sexuelle Entwicklung ist jedoch am wichtigsten, zu begr
 eifen, dass kindliche Sexualität nichts mit dem zu tun hat, was Erwachsene 
 unter Sexualität verstehen.</p><p>In diesem Vortrag geht es darum, die kind
 liche sexuelle Entwicklung als Teil des Heranwachsens von Menschen verstehe
 n zu lernen. Eltern und andere Bezugspersonen können hier erfahren, wie sie
  von Geburt an im Erziehungsalltag adäquat bei der sexuellen Bildung eines 
 Kindes unterstützen können. Durch einen altersgerechten Umgang mit Sexualit
 ät kann ein wichtiger Schutz vor (sexueller) Gewalt geleistet und Kinder zu
  selbstbestimmten Erwachsenen erzogen werden.</p><p>Preis: 30€/Person, Paar
 e zahlen insgesamt 50€<br />Sondertarife sind nach Absprache möglich.</p><p
 >Anmeldungen an: conny@gefuehlsecht.at</p>
CONTACT:conny@gefuehlsecht.at
X-EXTRAINFO:[preis='3000'][anmeldung='true']
DTSTAMP:20260423T165626
DTSTART:20191125T183000
DTEND:20191125T203000
SEQUENCE:0
TRANSP:OPAQUE
END:VEVENT
END:VCALENDAR