BEGIN:VCALENDAR
VERSION:2.0
PRODID:-//jEvents 2.0 for Joomla//EN
CALSCALE:GREGORIAN
METHOD:PUBLISH
BEGIN:VEVENT
UID:4cc3ac5a0609cc482515eeeed9337497
CATEGORIES:Wien Umgebung
CREATED:20191002T194735
SUMMARY:Typisch Bub! Typisch Mädchen?
LOCATION:Hauptstraße 43-47/6\, 2340 Mödling
DESCRIPTION:<p>Im Kindergartenalter ist Kindern die geschlechtliche Zuordnung und die d
 amit verbundenen gesellschaftlichen Normen noch egal. Buben in Kleidern und
  Mädchen, die sich als Buben bezeichnen, sind hier ganz normal. Sobald Kind
 er ins Volksschulalter kommen, geht es jedoch sehr schnell darum, was Buben
  und Mädchen ausmacht. Das „eigene“ Geschlecht wird vom „anderen“ Geschlech
 t abgegrenzt und es entstehen oftmals Rivalitäten zwischen Buben und Mädche
 n, deren Zweck die Abgrenzung der Geschlechter ist.</p><p>Woher dieses Inte
 resse und der Wunsch nach einer Abgrenzung kommt und was es mit Geschlechte
 rrollen auf sich hat, wird in diesem Vortrag beleuchtet. Es wird auch darau
 f eingegangen, wie Eltern und andere Bezugspersonen Kinder abseits von Gesc
 hlechterstereotypen in ihrer sexuellen Entwicklung begleiten können.</p><p>
 An diesem Abend steht der Austausch unter Bezugspersonen im Fokus.</p><p>Ko
 sten: 20€ pro Person, Paare bezahlen insgesamt 30€</p><p>Anmeldungen an: co
 nny@gefuehlsecht.at</p>
CONTACT:conny@gefuehlsecht.at
X-EXTRAINFO:[preis='2000'][anmeldung='true']
DTSTAMP:20260425T122059
DTSTART:20191206T170000
DTEND:20191206T190000
SEQUENCE:0
TRANSP:OPAQUE
END:VEVENT
END:VCALENDAR