BEGIN:VCALENDAR
VERSION:2.0
PRODID:-//jEvents 2.0 for Joomla//EN
CALSCALE:GREGORIAN
METHOD:PUBLISH
BEGIN:VEVENT
UID:79cc60de915e9a27241392a95824cc4e
CATEGORIES:12. Bezirk
CREATED:19700101T010000
SUMMARY:Mama-Baby-Yoga
LOCATION:1120 Wien\, Hetzendorferstraße 120
DESCRIPTION:<p>Yoga mit Baby in 1120 Wien, Hetzendorferstraße 120.<br />Wenn ein Baby d
 a ist, bleibt meist wenig Zeit, um auf sich selbst zu schauen. Dabei ist es
  gerade dann wichtig, Kraft zu tanken, Rücken- und Köprermitte zu stärken u
 nd auch zu entspannen.<br />Wir praktizieren sanfte Yoga - Asanas, die auch
  bei der Rückbildung helfen. Die Babies kommen einfach mit! In der kleinen 
 Guppe (max. 6 Erwachsene) kann gut auf individuelle Bedürfnisse eingegangen
  werden. <br />Die Mama-Baby-Yogakurse sind auch perfekt zum Vernetzen mit 
 anderen Mamis!</p><p>Information und Anmeldung bei Sigrid: <br />Tel.  0660
  47 97 016<br /><a href="mailto:sigrid@taoday.net">sigrid@taoday.net</a></p
 ><p><a href="http://www.yogainhetzendorf.wordpress.com">yogainhetzendorf.wo
 rdpress.com</a></p><p> </p>
CONTACT:sigrid@taoday.net, Tel. 0660 47 97 016
X-EXTRAINFO:[preis='1400'][anmeldung='true']
DTSTAMP:20260423T113623
DTSTART:20191008T080000
DTEND:20191008T091500
SEQUENCE:0
RRULE:FREQ=WEEKLY;UNTIL=20191218T000000Z;INTERVAL=1;BYDAY=TU
TRANSP:OPAQUE
END:VEVENT
END:VCALENDAR