BEGIN:VCALENDAR
VERSION:2.0
PRODID:-//jEvents 2.0 for Joomla//EN
CALSCALE:GREGORIAN
METHOD:PUBLISH
BEGIN:VEVENT
UID:a2055f9c30a0372c3220b210fea013a2
CATEGORIES:12. Bezirk
CREATED:20191004T123025
SUMMARY:Yoga mit Baby
LOCATION:1120 Wien\, Hetzendorferstraße 120
DESCRIPTION:Yoga mit Baby in 1120 Wien, Hetzendorferstraße 120.\n\nWenn ein Baby da ist
 , bleibt meist wenig Zeit, um auf sich selbst zu schauen. Dabei ist es gera
 de dann wichtig, Kraft zu tanken, Rücken- und Köprermitte zu stärken und au
 ch zu entspannen.\nWir praktizieren sanfte Yoga - Asanas, die auch bei der 
 Rückbildung helfen. Die Babies kommen einfach mit! In der kleinen Guppe (ma
 x. 6 Erwachsene) kann gut auf individuelle Bedürfnisse eingegangen werden. 
 \nDie Mama-Baby-Yogakurse sind auch perfekt zum Vernetzen mit anderen Mamis
 !\nInformation und Anmeldung bei Sigrid: \nTel.  0660 47 97 016\nsigrid@tao
 day.net (mailto:sigrid@taoday.net)\nyogainhetzendorf.wordpress.com (http://
 www.yogainhetzendorf.wordpress.com)\n
X-ALT-DESC;FMTTYPE=text/html:<p>Yoga mit Baby in 1120 Wien, Hetzendorferstraße 120.<br /><br />Wenn ein 
 Baby da ist, bleibt meist wenig Zeit, um auf sich selbst zu schauen. Dabei 
 ist es gerade dann wichtig, Kraft zu tanken, Rücken- und Köprermitte zu stä
 rken und auch zu entspannen.<br />Wir praktizieren sanfte Yoga - Asanas, di
 e auch bei der Rückbildung helfen. Die Babies kommen einfach mit! In der kl
 einen Guppe (max. 6 Erwachsene) kann gut auf individuelle Bedürfnisse einge
 gangen werden. <br />Die Mama-Baby-Yogakurse sind auch perfekt zum Vernetze
 n mit anderen Mamis!</p><p>Information und Anmeldung bei Sigrid: <br />Tel.
   0660 47 97 016<br /><a href="mailto:sigrid@taoday.net">sigrid@taoday.net<
 /a></p><p><a href="http://www.yogainhetzendorf.wordpress.com">yogainhetzend
 orf.wordpress.com</a></p>
CONTACT:sigrid@taoday.net, Tel. 0660 47 97 016
X-EXTRAINFO:[preis='1400'][anmeldung='true']
DTSTAMP:20260425T153722
DTSTART:20191009T080000
DTEND:20191009T091500
SEQUENCE:0
TRANSP:OPAQUE
END:VEVENT
END:VCALENDAR