BEGIN:VCALENDAR
VERSION:2.0
PRODID:-//jEvents 2.0 for Joomla//EN
CALSCALE:GREGORIAN
METHOD:PUBLISH
BEGIN:VEVENT
UID:c84e227efb0eba4b275103d044a69f60
CATEGORIES:6. Bezirk
CREATED:20191007T123101
SUMMARY:Shiatsu für Babys
LOCATION:Biolino Institut\, Sandwirtgasse 13/12\, 1060 Wien
DESCRIPTION:SHIATSU WIRKT\n\n und fördert die Eltern-Kind-Beziehung\n\nlindert Bauchsch
 merzen und Blähungen\n\nhilft bei Trinkschwierigkeiten\n\nunterstützt das E
 inschlafen\n\nstärkt das Immunsystem \n\n\n Mit sanftem, deutlichem Druck w
 ird der Körper deines Babys entlang der zukünftigen Meridiane massiert und 
 das Qi in die richtigen Bahnen des Körper gelenkt. So bekommt es über seine
  Gewebe immer die Impulse, die es in seinem ganz eigenen Tempo annehmen kan
 n - also dann, wenn es dazu bereit ist.\n\nShiatsu trägt so zur allgemeinen
  Ausgeglichenheit bei - wir berühren alle Sinne. Dein Baby findet seine Mit
 te und geht damit seinen ersten Schritt in Richtung eines harmonischen Lebe
 ns. \n\n\n\nDer Workshop:\n\n4 Stunden, die aufeinander aufbauen und den ga
 nzen Körper integrieren, \ninkl. Baby-Handling (Tragen und Umlagern), Kinde
 rreime, Singspiele und Übungen für ausgeglichene Mamas &amp; Papas\n\n\nTER
 MINE:\n\n11. Oktober\n\n1. November\n\n8. November\n\n29. November\n\nimmer
  15 Uhr - 16 Uhr\n \n\n\n \n1. Einheit\n\n"Finden der Mitte"\n\nWillkommen 
 heißen, Ankommen in dieser Welt, die eigenen Mitte und Ausgeglichenheit fin
 den, Verdauung, Beruhigung\n\nEinführung in die Berührung durch Shiatsu\n\n
  \n\n2. Einheit\n\n"Spiel um die Mitte"\n\nIn Bauchlage geht es hier um die
  Aufrichtung und Rückenstärkung, die Welt aus einer neuen Perspektive kenne
 nlernen\n\n \n\n3. Einheit\n\n"Balance"\n\nDie Behandlung in der Seitenlage
  fördert Rhythmik, Dynamik und Rotation, Gleichgewicht und Balance\n\n \n\n
 4. Einheit\n\n"Integration"\n\nWir wiederholen nochmal gewünschte Abläufe, 
 können offenen Fragen beantworten und noch tiefer in die Thematik gehen.\n\
 n \n\nIn jeder Stunde soll vor allem auch Zeit für Austausch und Entspannun
 g sein.\n\n \n\nIm Anschluss an jede Stunde erhältst Du ein Handout, mit de
 m du die Handgriffe nach unserem Kurs ganz einfach zuhause selbst durchführ
 en kannst.\n\n \n\n \nIch freu mich über deine Anmeldung!\n
X-ALT-DESC;FMTTYPE=text/html:<p>SHIATSU WIRKT<br /><br /> und fördert die Eltern-Kind-Beziehung<br /><br
  />lindert Bauchschmerzen und Blähungen<br /><br />hilft bei Trinkschwierig
 keiten<br /><br />unterstützt das Einschlafen<br /><br />stärkt das Immunsy
 stem <br /><br /><br /> Mit sanftem, deutlichem Druck wird der Körper deine
 s Babys entlang der zukünftigen Meridiane massiert und das Qi in die richti
 gen Bahnen des Körper gelenkt. So bekommt es über seine Gewebe immer die Im
 pulse, die es in seinem ganz eigenen Tempo annehmen kann - also dann, wenn 
 es dazu bereit ist.<br /><br />Shiatsu trägt so zur allgemeinen Ausgegliche
 nheit bei - wir berühren alle Sinne. Dein Baby findet seine Mitte und geht 
 damit seinen ersten Schritt in Richtung eines harmonischen Lebens. <br /><b
 r /><br /><br />Der Workshop:<br /><br />4 Stunden, die aufeinander aufbaue
 n und den ganzen Körper integrieren, <br />inkl. Baby-Handling (Tragen und 
 Umlagern), Kinderreime, Singspiele und Übungen für ausgeglichene Mamas &amp
 ; Papas<br /><br /></p><p>TERMINE:</p><p><br />11. Oktober<br /><br />1. No
 vember<br /><br />8. November<br /><br />29. November<br /><br />immer 15 U
 hr - 16 Uhr</p><p> </p><p><br /><br /> <br />1. Einheit<br /><br />"Finden 
 der Mitte"<br /><br />Willkommen heißen, Ankommen in dieser Welt, die eigen
 en Mitte und Ausgeglichenheit finden, Verdauung, Beruhigung<br /><br />Einf
 ührung in die Berührung durch Shiatsu<br /><br /> <br /><br />2. Einheit<br
  /><br />"Spiel um die Mitte"<br /><br />In Bauchlage geht es hier um die A
 ufrichtung und Rückenstärkung, die Welt aus einer neuen Perspektive kennenl
 ernen<br /><br /> <br /><br />3. Einheit<br /><br />"Balance"<br /><br />Di
 e Behandlung in der Seitenlage fördert Rhythmik, Dynamik und Rotation, Glei
 chgewicht und Balance<br /><br /> <br /><br />4. Einheit<br /><br />"Integr
 ation"<br /><br />Wir wiederholen nochmal gewünschte Abläufe, können offene
 n Fragen beantworten und noch tiefer in die Thematik gehen.<br /><br /> <br
  /><br />In jeder Stunde soll vor allem auch Zeit für Austausch und Entspan
 nung sein.<br /><br /> <br /><br />Im Anschluss an jede Stunde erhältst Du 
 ein Handout, mit dem du die Handgriffe nach unserem Kurs ganz einfach zuhau
 se selbst durchführen kannst.<br /><br /> <br /><br /> </p><p>Ich freu mich
  über deine Anmeldung!</p>
CONTACT:auszeit@ausliebezudir.at
X-EXTRAINFO:[preis='9500'][anmeldung='true']
DTSTAMP:20260423T211412
DTSTART:20191011T130000
DTEND:20191011T140000
SEQUENCE:0
TRANSP:OPAQUE
END:VEVENT
END:VCALENDAR