BEGIN:VCALENDAR
VERSION:2.0
PRODID:-//jEvents 2.0 for Joomla//EN
CALSCALE:GREGORIAN
METHOD:PUBLISH
BEGIN:VEVENT
UID:f2824844d84a76cfd949ef215f6d965d
CATEGORIES:15. Bezirk
CREATED:20191008T083535
SUMMARY:Sextalk! "Feuchtes Höschen?!"
LOCATION:Künstlergasse 14/1\, 1150 Wien
DESCRIPTION:Sextalk! – Der etwas andere „Mädels*abend“ bietet Frauen* die Möglichkeit, 
 sich mit anderen zu den Themen Sexualität, Körper, Gefühle, Lust etc. auszu
 tauschen. Dank der gemütlichen Atmosphäre können Fragen gestellt werden, di
 e sonst womöglich im Verborgenen bleiben.\n\nIm Oktober geht es gemeinsam m
 it Viva La Vulva um das Thema Körperflüssigkeiten! Wir klären schamlos und 
 unaufgeregt alle Fragen rund um die Funktion und den Umgang mit Ausfluss un
 d Co. \n\nDazu gibt es Kekse und Tee.\n\nDie Teilnahme ist kostenlos! Zur D
 eckung der Raumkosten freue ich mich über eine kleine freie Spende. :)\n\nB
 itte melde dich per E-Mail (conny@gefuehlsecht.at) an.\n\nViva La Vulva ist
  das österreichische Forum von und für junge Feministinnen. Sie verstehen s
 ich als Meinungsplattform für feministische Themen, Freiheit, Selbstbestimm
 ung und Lust. Sie wollen dazu beitragen, die Belange junger Frauen nach auß
 en zu tragen, um diese sichtbar und besser wahrnehmbar zu machen.\nwww.viva
 lavulva.at (http://www.vivalavulva.at/?fbclid=IwAR2RdBDTvTvexuOtFi7qabcQrJx
 Bh8U9JzYDPDBEFHNaCpjC9z2ATLePOik)\n\ngefühls*echt steht für einen unaufgere
 gten Zugang zu sexueller Bildung für alle Menschen. Das Angebot umfasst sex
 ualpädagogische Workshops und Fortbildungen, Sexualberatung und Beckenboden
 training.\nwww.gefuehlsecht.at (http://www.gefuehlsecht.at/?fbclid=IwAR3x04
 6j6ipZq3rJHjt6sivdL65wIbCn47BoNdfeiVp614fHNALTLx8J_Vg)\n
X-ALT-DESC;FMTTYPE=text/html:<p>Sextalk! – Der etwas andere „Mädels*abend“ bietet Frauen* die Möglichkei
 t, sich mit anderen zu den Themen Sexualität, Körper, Gefühle, Lust etc. au
 szutauschen. Dank der gemütlichen Atmosphäre können Fragen gestellt werden,
  die sonst womöglich im Verborgenen bleiben.<br /><br />Im Oktober geht es 
 gemeinsam mit Viva La Vulva um das Thema Körperflüssigkeiten! Wir klären sc
 hamlos und unaufgeregt alle Fragen rund um die Funktion und den Umgang mit 
 Ausfluss und Co. <br /><br />Dazu gibt es Kekse und Tee.<br /><br />Die Tei
 lnahme ist kostenlos! Zur Deckung der Raumkosten freue ich mich über eine k
 leine freie Spende. :)<br /><br />Bitte melde dich per E-Mail (conny@gefueh
 lsecht.at) an.<br /><br />Viva La Vulva ist das österreichische Forum von u
 nd für junge Feministinnen. Sie verstehen sich als Meinungsplattform für fe
 ministische Themen, Freiheit, Selbstbestimmung und Lust. Sie wollen dazu be
 itragen, die Belange junger Frauen nach außen zu tragen, um diese sichtbar 
 und besser wahrnehmbar zu machen.<br /><a href="http://www.vivalavulva.at/?
 fbclid=IwAR2RdBDTvTvexuOtFi7qabcQrJxBh8U9JzYDPDBEFHNaCpjC9z2ATLePOik" targe
 t="_blank" rel="nofollow noopener noreferrer" data-lynx-mode="hover" data-l
 ynx-uri="https://l.facebook.com/l.php?u=http%3A%2F%2Fwww.vivalavulva.at%2F%
 3Ffbclid%3DIwAR2RdBDTvTvexuOtFi7qabcQrJxBh8U9JzYDPDBEFHNaCpjC9z2ATLePOik&am
 p;h=AT2Obu2EdTUCpMVzgzrfWNADpsCcLqYTQlu11ES5ErQHyyG0IvCYq5ChkdnaJoa_fuc6FNm
 y3Q6cStnFE5DaDVethgZ8iau0V3fLuPF8S0gPqPvgj6UhSRxYIvi52IJevg">www.vivalavulv
 a.at</a><br /><br />gefühls*echt steht für einen unaufgeregten Zugang zu se
 xueller Bildung für alle Menschen. Das Angebot umfasst sexualpädagogische W
 orkshops und Fortbildungen, Sexualberatung und Beckenbodentraining.<br /><a
  href="http://www.gefuehlsecht.at/?fbclid=IwAR3x046j6ipZq3rJHjt6sivdL65wIbC
 n47BoNdfeiVp614fHNALTLx8J_Vg" target="_blank" rel="nofollow noopener norefe
 rrer" data-lynx-mode="hover" data-lynx-uri="https://l.facebook.com/l.php?u=
 http%3A%2F%2Fwww.gefuehlsecht.at%2F%3Ffbclid%3DIwAR3x046j6ipZq3rJHjt6sivdL6
 5wIbCn47BoNdfeiVp614fHNALTLx8J_Vg&amp;h=AT2Su-m6BwSf2D8sbcr1JOjcvqSeO1A2-1h
 RtTioj9cOtVZKXVEuvNRMZfmTeEEVdFXBbzTsuxCSusNOZVTOlTjVFUPsCzULBq-JlFD2EbHfaF
 DfRnVA7jL4eqgzvpKIpA">www.gefuehlsecht.at</a></p>
CONTACT:conny@gefuehlsecht.at
X-EXTRAINFO:[preis='000'][anmeldung='true']
DTSTAMP:20260425T170449
DTSTART:20191024T180000
DTEND:20191024T200000
SEQUENCE:0
TRANSP:OPAQUE
END:VEVENT
END:VCALENDAR