BEGIN:VCALENDAR
VERSION:2.0
PRODID:-//jEvents 2.0 for Joomla//EN
CALSCALE:GREGORIAN
METHOD:PUBLISH
BEGIN:VEVENT
UID:cadd8921716b31f1fa35e49a8d968639
CATEGORIES:1. Bezirk
CREATED:20191008T135449
SUMMARY:Hochsensibel: Gefühlsstarke Erwachsene und Kinder
LOCATION:1010 Wien\, Stephansplatz 3\, 2. Stock
DESCRIPTION:mit Mag. Sabine Knoll &amp; Elisabeth Heller\nVerein hochsensitiv.net\nGefü
 hlsstark, autonom, hochsensibel: drei Begriffe, die im Grunde dasselbe (ang
 eborene) Phänomen beschreiben: Kinder und Erwachsene mit erhöhter Aufnahme 
 und Verarbeitung von Außenreizen.\nGerade Kinder mit dieser Eigenschaft wer
 den aufgrund ihres „extremen“ Verhaltens rasch etikettiert als hyperaktiv, 
 hartnäckig, überempfindlich, sozial unangepasst. \nWährend Erwachsene lerne
 n können, ihre Hochsensibilität (auch: Hochsensitivität) als Gabe statt Bür
 de zu begreifen, brauchen Kinder eine rücksichtsvolle und unterstützende, i
 nformierte Umgebung. In unserer Workshopreihe finden Sie heraus, ob Sie sel
 bst oder Ihre Familienmitglieder hochsensibel sind, was die guten Seiten vo
 n diesem Persönlichkeitsmerkmal sind und wie Sie damit bei sich und anderen
  (insbesondere Kindern) gut umgehen. \nHochsensibel / hochsensitiv - Was is
 t das?\nWas sind die Herausforderungen im Leben von hochsensiblen Erwachsen
 en und Kindern? Was\nnährt HSP (= Highly Sensitive Person) im Alltag? Was s
 ind „hochsensitive Scanner“ und High\nSensation Seeker? - Eine Einführung i
 ns Thema.\n\nHerausforderungen meistern\nWie können HSP bei sich und trotzd
 em einfühlsam bleiben? Wie mehr Resilienz entwickeln? Wie\nhoch ist die Bur
 nout-Gefahr? Wie können Hochsensible Grenzen wahren und neu auftanken? -\nE
 rden, zentrieren, abgrenzen lernen.\n 
X-ALT-DESC;FMTTYPE=text/html:<div class="teaser" style="color: #000000; display: inline; font-family: &a
 mp;quot; pt_sans&amp;quot;; font-size: 14px; font-style: normal; font-varia
 nt: normal; font-weight: 400; letter-spacing: normal; margin-bottom: 2px; o
 rphans: 2; padding-bottom: 0px; padding-left: 0px; text-align: left; text-d
 ecoration: none; text-indent: 0px; text-transform: none; -webkit-text-strok
 e-width: 0px; white-space: normal; word-spacing: 0px;"><p style="display: i
 nline; font-family: &amp;quot; pt_sans&amp;quot;; font-size: 14px; line-hei
 ght: 140%; margin-right: 0px; margin-top: 5px; vertical-align: top;">mit Ma
 g. Sabine Knoll &amp; Elisabeth Heller<br />Verein hochsensitiv.net</p></di
 v><div class="textfeld" style="color: #000000; font-family: &amp;quot; pt_s
 ans&amp;quot;; font-size: 16px; font-style: normal; font-variant: normal; f
 ont-weight: 400; letter-spacing: normal; orphans: 2; text-align: left; text
 -decoration: none; text-indent: 0px; text-transform: none; -webkit-text-str
 oke-width: 0px; white-space: normal; word-spacing: 0px;"><p style="font-fam
 ily: &amp;quot; pt_sans&amp;quot;; font-size: 14px; line-height: 140%; marg
 in-right: 0px; margin-top: 5px; vertical-align: top;">Gefühlsstark, autonom
 , hochsensibel: drei Begriffe, die im Grunde dasselbe (angeborene) Phänomen
  beschreiben: Kinder und Erwachsene mit erhöhter Aufnahme und Verarbeitung 
 von Außenreizen.</p><p style="font-family: &amp;quot; pt_sans&amp;quot;; fo
 nt-size: 14px; line-height: 140%; margin-right: 0px; margin-top: 5px; verti
 cal-align: top;">Gerade Kinder mit dieser Eigenschaft werden aufgrund ihres
  „extremen“ Verhaltens rasch etikettiert als hyperaktiv, hartnäckig, überem
 pfindlich, sozial unangepasst. </p><p style="font-family: &amp;quot; pt_san
 s&amp;quot;; font-size: 14px; line-height: 140%; margin-right: 0px; margin-
 top: 5px; vertical-align: top;">Während Erwachsene lernen können, ihre Hoch
 sensibilität (auch: Hochsensitivität) als Gabe statt Bürde zu begreifen, br
 auchen Kinder eine rücksichtsvolle und unterstützende, informierte Umgebung
 . In unserer Workshopreihe finden Sie heraus, ob Sie selbst oder Ihre Famil
 ienmitglieder hochsensibel sind, was die guten Seiten von diesem Persönlich
 keitsmerkmal sind und wie Sie damit bei sich und anderen (insbesondere Kind
 ern) gut umgehen. </p><p style="font-family: &amp;quot; pt_sans&amp;quot;; 
 font-size: 14px; line-height: 140%; margin-right: 0px; margin-top: 5px; ver
 tical-align: top;"><span style="color: #b00000; font-size: medium; backgrou
 nd-color: #ffffff;">Hochsensibel / hochsensitiv - Was ist das?<br />Was sin
 d die Herausforderungen im Leben von hochsensiblen Erwachsenen und Kindern?
  Was<br />nährt HSP (= Highly Sensitive Person) im Alltag? Was sind „hochse
 nsitive Scanner“ und High<br />Sensation Seeker? - Eine Einführung ins Them
 a.<br /><br />Herausforderungen meistern<br />Wie können HSP bei sich und t
 rotzdem einfühlsam bleiben? Wie mehr Resilienz entwickeln? Wie<br />hoch is
 t die Burnout-Gefahr? Wie können Hochsensible Grenzen wahren und neu auftan
 ken? -<br />Erden, zentrieren, abgrenzen lernen.</span></p></div><div class
 ="textfeld" style="color: #000000; font-family: &amp;quot; pt_sans&amp;quot
 ;; font-size: 16px; font-style: normal; font-variant: normal; font-weight: 
 400; letter-spacing: normal; orphans: 2; text-align: left; text-decoration:
  none; text-indent: 0px; text-transform: none; -webkit-text-stroke-width: 0
 px; white-space: normal; word-spacing: 0px;"> </div>
CONTACT:anmeldung@bildungswerk.at
X-EXTRAINFO:[preis='4500'][anmeldung='true']
DTSTAMP:20260425T153907
DTSTART:20191014T163000
DTEND:20191014T193000
SEQUENCE:0
TRANSP:OPAQUE
END:VEVENT
END:VCALENDAR