BEGIN:VCALENDAR
VERSION:2.0
PRODID:-//jEvents 2.0 for Joomla//EN
CALSCALE:GREGORIAN
METHOD:PUBLISH
BEGIN:VEVENT
UID:98a57c6611daa4b153c9224edc0dc8ce
CATEGORIES:21. Bezirk
CREATED:20191009T123538
SUMMARY:Aus 1 wird 2, wird 3, wird mehr - Geschwisterworkshop
LOCATION:Bildungszentrum Floridsdorf\, Zaunscherbgasse 4\, 1210 Wien
DESCRIPTION:Mit DI Olga Waitz, Familylab-Seminarleiterin.\n \n \nVeränderte Situationen
  bringen neue Herausforderungen – dieser Workshop soll Impulse geben, wie S
 ie mit dem Verhalten Ihrer Kinder gut umgehen können und Ihre Kindern in ih
 rer Beziehung zueinander unterstützen können.\nGeschwister buhlen um die Ra
 ngordnung und Zuwendung der Eltern. Sie streiten und sie lieben sich. Die R
 olle von Geschwistern in der Entwicklung eines Menschen wird oft unterschät
 zt. Neuere Forschungen haben gezeigt, dass die Geburtenfolge den größten Ei
 nfluss auf unsere Persönlichkeitseigenschaften hat. Als Eltern haben wir ei
 nen großen Einfluss darauf, dass Geschwister ein gutes Zusammengehörigkeits
 gefühl entwickeln. Wir beleuchten das Geschwister-Thema von verschiedenen S
 eiten: Von der Überlegung, die Familie zu vergrößern, über die Vorbereitung
  auf die Geschwisterbeziehung bis hin zu den alltäglichen Herausforderungen
  mit mehreren Kindern wird in diesem Impuls-Workshop eingegangen.\n
X-ALT-DESC;FMTTYPE=text/html:<div class="teaser" style="color: #000000; display: inline; font-family: &a
 mp;quot; pt_sans&amp;quot;; font-size: 14px; font-style: normal; font-varia
 nt: normal; font-weight: 400; letter-spacing: normal; margin-bottom: 2px; o
 rphans: 2; padding-bottom: 0px; padding-left: 0px; text-align: left; text-d
 ecoration: none; text-indent: 0px; text-transform: none; -webkit-text-strok
 e-width: 0px; white-space: normal; word-spacing: 0px;"><p style="display: i
 nline; font-family: &amp;quot; pt_sans&amp;quot;; font-size: 14px; line-hei
 ght: 140%; margin-right: 0px; margin-top: 5px; vertical-align: top;">Mit DI
  Olga Waitz, Familylab-Seminarleiterin.</p><p style="display: inline; font-
 family: &amp;quot; pt_sans&amp;quot;; font-size: 14px; line-height: 140%; m
 argin-right: 0px; margin-top: 5px; vertical-align: top;"> </p><p style="dis
 play: inline; font-family: &amp;quot; pt_sans&amp;quot;; font-size: 14px; l
 ine-height: 140%; margin-right: 0px; margin-top: 5px; vertical-align: top;"
 > </p><p style="display: inline; font-family: &amp;quot; pt_sans&amp;quot;;
  font-size: 14px; line-height: 140%; margin-right: 0px; margin-top: 5px; ve
 rtical-align: top;">Veränderte Situationen bringen neue Herausforderungen –
  dieser Workshop soll Impulse geben, wie Sie mit dem Verhalten Ihrer Kinder
  gut umgehen können und Ihre Kindern in ihrer Beziehung zueinander unterstü
 tzen können.</p></div><div class="textfeld" style="color: #000000; font-fam
 ily: &amp;quot; pt_sans&amp;quot;; font-size: 16px; font-style: normal; fon
 t-variant: normal; font-weight: 400; letter-spacing: normal; orphans: 2; te
 xt-align: left; text-decoration: none; text-indent: 0px; text-transform: no
 ne; -webkit-text-stroke-width: 0px; white-space: normal; word-spacing: 0px;
 "><p style="font-family: &amp;quot; pt_sans&amp;quot;; font-size: 14px; lin
 e-height: 140%; margin-right: 0px; margin-top: 5px; vertical-align: top;">G
 eschwister buhlen um die Rangordnung und Zuwendung der Eltern. Sie streiten
  und sie lieben sich. Die Rolle von Geschwistern in der Entwicklung eines M
 enschen wird oft unterschätzt. Neuere Forschungen haben gezeigt, dass die G
 eburtenfolge den größten Einfluss auf unsere Persönlichkeitseigenschaften h
 at. Als Eltern haben wir einen großen Einfluss darauf, dass Geschwister ein
  gutes Zusammengehörigkeitsgefühl entwickeln. Wir beleuchten das Geschwiste
 r-Thema von verschiedenen Seiten: Von der Überlegung, die Familie zu vergrö
 ßern, über die Vorbereitung auf die Geschwisterbeziehung bis hin zu den all
 täglichen Herausforderungen mit mehreren Kindern wird in diesem Impuls-Work
 shop eingegangen.</p></div>
CONTACT:bildungszentrum@bildungswerk.at
X-EXTRAINFO:[preis='2500'][anmeldung='true']
DTSTAMP:20260423T195104
DTSTART:20191016T070000
DTEND:20191016T100000
SEQUENCE:0
TRANSP:OPAQUE
END:VEVENT
END:VCALENDAR