BEGIN:VCALENDAR
VERSION:2.0
PRODID:-//jEvents 2.0 for Joomla//EN
CALSCALE:GREGORIAN
METHOD:PUBLISH
BEGIN:VEVENT
UID:de7d355c13b0f70c1f12871181ec20f6
CATEGORIES:1. Bezirk
CREATED:20191009T124115
SUMMARY:PATCHWORK Treff
LOCATION:1010 Wien\, Stephansplatz 3\, 2. Stock
DESCRIPTION:<div class="teaser" style="color: #000000; display: inline; font-family: &a
 mp;quot; pt_sans&amp;quot;; font-size: 14px; font-style: normal; font-varia
 nt: normal; font-weight: 400; letter-spacing: normal; margin-bottom: 2px; o
 rphans: 2; padding-bottom: 0px; padding-left: 0px; text-align: left; text-d
 ecoration: none; text-indent: 0px; text-transform: none; -webkit-text-strok
 e-width: 0px; white-space: normal; word-spacing: 0px;"><p style="display: i
 nline; font-family: &amp;quot; pt_sans&amp;quot;; font-size: 14px; line-hei
 ght: 140%; margin-right: 0px; margin-top: 5px; vertical-align: top;">Moderi
 erte offene Gesprächsrunde im Herzen von Wien.</p></div><p> </p><div class=
 "textfeld" style="color: #000000; font-family: &amp;quot; pt_sans&amp;quot;
 ; font-size: 16px; font-style: normal; font-variant: normal; font-weight: 4
 00; letter-spacing: normal; orphans: 2; text-align: left; text-decoration: 
 none; text-indent: 0px; text-transform: none; -webkit-text-stroke-width: 0p
 x; white-space: normal; word-spacing: 0px;"><p style="font-family: &amp;quo
 t; pt_sans&amp;quot;; font-size: 14px; line-height: 140%; margin-right: 0px
 ; margin-top: 5px; vertical-align: top;">Loyalität, Eifersucht, Ex-Partner 
 und -Partnerinnen, Wohnmodelle, Kontaktrecht, Regeln und Grenzen, Rituale, 
 alte und neue Rollen, Familientreffen, Feste, Großeltern, Träume und Wirkli
 chkeit:<br />Beim Patchwork Treff erfahren Sie, wie andere Familien damit u
 mgehen.</p><p style="font-family: &amp;quot; pt_sans&amp;quot;; font-size: 
 14px; line-height: 140%; margin-right: 0px; margin-top: 5px; vertical-align
 : top;">Eine Expertin moderiert die Runde und gibt thematisches Input. Die 
 Termine können einzeln besucht werden! Eingeladen sind Elternteile, Paare u
 nd Großeltern. Herzlich willkommen sind sowohl Frauen und Männer, die schon
  lange in einer Stief- oder Patchworksituation leben als auch jene, die ers
 t mit dem Gedanken spielen, sich darauf einzulassen.</p><p style="font-fami
 ly: &amp;quot; pt_sans&amp;quot;; font-size: 14px; line-height: 140%; margi
 n-right: 0px; margin-top: 5px; vertical-align: top;">Weitere Termine:<br />
 11. November 2019<br />2. Dezember 2019<br />30. Dezember 2019<br />20. Jän
 ner 2020</p><p style="font-family: &amp;quot; pt_sans&amp;quot;; font-size:
  14px; line-height: 140%; margin-right: 0px; margin-top: 5px; vertical-alig
 n: top;">jeweils Montag, 18-20 Uhr</p></div><div class="textfeld" style="co
 lor: #000000; font-family: &amp;quot; pt_sans&amp;quot;; font-size: 16px; f
 ont-style: normal; font-variant: normal; font-weight: 400; letter-spacing: 
 normal; orphans: 2; text-align: left; text-decoration: none; text-indent: 0
 px; text-transform: none; -webkit-text-stroke-width: 0px; white-space: norm
 al; word-spacing: 0px;"><p style="font-family: &amp;quot; pt_sans&amp;quot;
 ; font-size: 14px; line-height: 140%; margin-right: 0px; margin-top: 5px; v
 ertical-align: top;"><strong>Moderatorinnen</strong>: DI Olga Waitz, Family
 lab-Seminarleiterin mit Patchwork-Erfahrung und Mag. Veronika Richter, Coac
 h, Mediatorin und Elternberaterin</p><p style="font-family: &amp;quot; pt_s
 ans&amp;quot;; font-size: 14px; line-height: 140%; margin-right: 0px; margi
 n-top: 5px; vertical-align: top;"><strong>Kostenbeitrag</strong>: 10-20 Eur
 o nach Selbsteinschätzung (Schnuppern kostenlos)</p></div>
CONTACT:anmeldung@bildungswerk.at
X-EXTRAINFO:[preis='1000'][anmeldung='true']
DTSTAMP:20260425T153233
DTSTART:20191021T160000
DTEND:20191021T180000
SEQUENCE:0
TRANSP:OPAQUE
END:VEVENT
END:VCALENDAR