BEGIN:VCALENDAR
VERSION:2.0
PRODID:-//jEvents 2.0 for Joomla//EN
CALSCALE:GREGORIAN
METHOD:PUBLISH
BEGIN:VEVENT
UID:c648d242950cb938976a630b3b96ae9a
CATEGORIES:3. Bezirk
CREATED:20191015T115901
SUMMARY:Das Grüne Krabbeln
LOCATION:Werkstatt3/Werken für Zwerge Erdbergstraße 140\, 1030 Wien
DESCRIPTION:Du interessierst dich für grüne Politik und hast gerade ein Kind bekommen? 
 Der dritte Bezirk ist dein Zuhause und du möchtest ihn noch lebenswerter ge
 stalten? Du möchtest gleichgesinnte Eltern kennenlernen und in ungezwungene
 m Rahmen gemeinsam mit deinem Baby den Nachmittag verbringen? Dann schau' v
 orbei!\nPerfekt für Eltern mit Kindern zwischen 0 und 3 Jahren.\nWANN: Frei
 tag, den 25.10.2019 zwischen 14.00 - 17.00 Uhr \nWO: Werkstatt3/Werken für 
 Zwerge Erdbergstraße 140, 1030 Wien?.\nWir freuen uns auf euch!\n
X-ALT-DESC;FMTTYPE=text/html:<p>Du interessierst dich für grüne Politik und hast gerade ein Kind bekomme
 n? Der dritte Bezirk ist dein Zuhause und du möchtest ihn noch lebenswerter
  gestalten? Du möchtest gleichgesinnte Eltern kennenlernen und in ungezwung
 enem Rahmen gemeinsam mit deinem Baby den Nachmittag verbringen? Dann schau
 ' vorbei!</p><p>Perfekt für Eltern mit Kindern zwischen 0 und 3 Jahren.</p>
 <p>WANN: Freitag, den 25.10.2019 zwischen 14.00 - 17.00 Uhr <br />WO: Werks
 tatt3/Werken für Zwerge Erdbergstraße 140, 1030 Wien?.</p><p>Wir freuen uns
  auf euch!</p>
CONTACT:sandra.edelmann@gruene.at
DTSTAMP:20260425T011518
DTSTART:20191025T120000
DTEND:20191025T150000
SEQUENCE:0
TRANSP:OPAQUE
END:VEVENT
END:VCALENDAR