BEGIN:VCALENDAR
VERSION:2.0
PRODID:-//jEvents 2.0 for Joomla//EN
CALSCALE:GREGORIAN
METHOD:PUBLISH
BEGIN:VEVENT
UID:3ef8694b740cd9f32dc9740073bf0d78
CATEGORIES:12. Bezirk
CREATED:20191015T144504
SUMMARY:MamaMut - Workshop für mentale Geburtsvorbereitung
LOCATION:Tivoligasse 5/17 1120 Wien
DESCRIPTION:Möchtest du dich mental gut auf deine Geburt vorbereiten, die Angst vor den
  Schmerzen überwinden und Deinen Geist gestärkt in die ersten Wehen schicke
 n? \nIm MamaMut Workshop „Stark denken statt schön reden“ treffen sich schw
 angere Frauen um einen Vormittag lang Mut, Klarheit und Offenheit für ihre 
 Geburt zu sammeln. Gemeinsam werden positive Zielsätze, sogenannte Affirmat
 ionen, erarbeitet und Techniken zur mentalen Geburtsvorbereitung erlernt. J
 ede Teilnehmerin erhält ein kleines Zielsatzbüchlein, in welchem die stärke
 nden Gedanken aufgeschrieben und mit nach Hause genommen werden können.\nDe
 r Workshop wird von Maria Lackner geleitet. Maria Lackner ist zweifache Mut
 ter, systemische Beraterin und Sozialökologin und hat die Methodik rund um 
 MamaMut im Rahmen ihrer zwei eigenen wilden, magischen und natürlichen Gebu
 rten (*2015 und *2018) entwickelt.\nMehr Infos findet ihr unter http://www.
 marialackner.com/workshops/ (http://www.marialackner.com/workshops/)\n \n
X-ALT-DESC;FMTTYPE=text/html:<p><strong>Möchtest du dich mental gut auf deine Geburt vorbereiten, die An
 gst vor den Schmerzen überwinden und Deinen Geist gestärkt in die ersten We
 hen schicken? </strong></p><p>Im <strong>MamaMut Workshop „Stark denken sta
 tt schön reden“</strong> treffen sich schwangere Frauen um einen Vormittag 
 lang Mut, Klarheit und Offenheit für ihre Geburt zu sammeln. Gemeinsam werd
 en positive Zielsätze, sogenannte Affirmationen, erarbeitet und Techniken z
 ur mentalen Geburtsvorbereitung erlernt. Jede Teilnehmerin erhält ein klein
 es Zielsatzbüchlein, in welchem die stärkenden Gedanken aufgeschrieben und 
 mit nach Hause genommen werden können.</p><p>Der Workshop wird von Maria La
 ckner geleitet. Maria Lackner ist zweifache Mutter, systemische Beraterin u
 nd Sozialökologin und hat die Methodik rund um MamaMut im Rahmen ihrer zwei
  eigenen wilden, magischen und natürlichen Geburten (*2015 und *2018) entwi
 ckelt.</p><p>Mehr Infos findet ihr unter <a href="http://www.marialackner.c
 om/workshops/">http://www.marialackner.com/workshops/</a></p><p> </p>
CONTACT:email@marialackner.com | 0660 3669825
X-EXTRAINFO:[preis='3900'][anmeldung='true']
DTSTAMP:20260425T134703
DTSTART:20191109T080000
DTEND:20191109T113000
SEQUENCE:0
TRANSP:OPAQUE
END:VEVENT
END:VCALENDAR