BEGIN:VCALENDAR
VERSION:2.0
PRODID:-//jEvents 2.0 for Joomla//EN
CALSCALE:GREGORIAN
METHOD:PUBLISH
BEGIN:VEVENT
UID:faec760a2afeb6d847aab771440f1c16
CATEGORIES:12. Bezirk
CREATED:20191015T144554
SUMMARY:MamaMut - Workshop für mentale Geburtsvorbereitung
LOCATION:Tivoligasse 5/17 1120 Wien
DESCRIPTION:Möchtest du dich mental gut auf deine Geburt vorbereiten, die Angst vor den
  Schmerzen überwinden und Deinen Geist gestärkt in die ersten Wehen schicke
 n?\nIm MamaMut Workshop „Stark denken statt schön reden“ treffen sich schwa
 ngere Frauen um einen Vormittag lang Mut, Klarheit und Offenheit für ihre G
 eburt zu sammeln. Gemeinsam werden positive Zielsätze, sogenannte Affirmati
 onen, erarbeitet und Techniken zur mentalen Geburtsvorbereitung erlernt. Je
 de Teilnehmerin erhält ein kleines Zielsatzbüchlein, in welchem die stärken
 den Gedanken aufgeschrieben und mit nach Hause genommen werden können.\nDer
  Workshop wird von Maria Lackner geleitet. Maria Lackner ist zweifache Mutt
 er, systemische Beraterin und Sozialökologin und hat die Methodik rund um M
 amaMut im Rahmen ihrer zwei eigenen wilden, magischen und natürlichen Gebur
 ten (*2015 und *2018) entwickelt.\nMehr Infos findet ihr unter http://www.m
 arialackner.com/workshops/ (http://www.marialackner.com/workshops/)\n
X-ALT-DESC;FMTTYPE=text/html:<p><strong>Möchtest du dich mental gut auf deine Geburt vorbereiten, die An
 gst vor den Schmerzen überwinden und Deinen Geist gestärkt in die ersten We
 hen schicken?</strong></p><p>Im <strong>MamaMut Workshop „Stark denken stat
 t schön reden“</strong> treffen sich schwangere Frauen um einen Vormittag l
 ang Mut, Klarheit und Offenheit für ihre Geburt zu sammeln. Gemeinsam werde
 n positive Zielsätze, sogenannte Affirmationen, erarbeitet und Techniken zu
 r mentalen Geburtsvorbereitung erlernt. Jede Teilnehmerin erhält ein kleine
 s Zielsatzbüchlein, in welchem die stärkenden Gedanken aufgeschrieben und m
 it nach Hause genommen werden können.</p><p>Der Workshop wird von Maria Lac
 kner geleitet. Maria Lackner ist zweifache Mutter, systemische Beraterin un
 d Sozialökologin und hat die Methodik rund um MamaMut im Rahmen ihrer zwei 
 eigenen wilden, magischen und natürlichen Geburten (*2015 und *2018) entwic
 kelt.</p><p>Mehr Infos findet ihr unter <a href="http://www.marialackner.co
 m/workshops/">http://www.marialackner.com/workshops/</a></p>
CONTACT:email@marialackner.com | 0660 3669825
X-EXTRAINFO:[preis='3900'][anmeldung='true']
DTSTAMP:20260423T161740
DTSTART:20191214T080000
DTEND:20191214T113000
SEQUENCE:0
TRANSP:OPAQUE
END:VEVENT
END:VCALENDAR