BEGIN:VCALENDAR
VERSION:2.0
PRODID:-//jEvents 2.0 for Joomla//EN
CALSCALE:GREGORIAN
METHOD:PUBLISH
BEGIN:VEVENT
UID:f6540a6d9527a0994001e0ca6a8a2632
CATEGORIES:22. Bezirk
CREATED:19700101T010000
SUMMARY:ElternKind Reiten
LOCATION:1220 Wien
DESCRIPTION:Einfach mal die Seele baumeln lassen,\nKraft für den Alltag tanken und\nbew
 usst Zeit mit Ihrem Kind genießen!\n\n\nIm Herbst 2019 können Kleinkinder i
 m Alter von 1-3 Jahren, die bereits großes Interesse an Pferden zeigen, in 
 Begleitung von Mama oder Papa an unseren Eltern-Kind Gruppen teilnehmen.\n\
 n\nSpiel-, Bewegungs- und Sinnesanregungen rund um das Thema Pferd stehen i
 m Mittelpunkt.? Die Zeit auf dem Pferd gestaltet sich für die Eltern-Kind-T
 eams individuell.\n\n\nReitKINDERGARTEN in Donaustadt\nEßlinger Hauptstraße
  192, 1220 Wien\nPferdekraft-Gruppe I: am Sonntag Nachmittag von 13:50-14:5
 0 Uhr\nPferdekraft-Gruppe II: am Sonntag Nachmittag von 15:00-16:00 Uhr\nPf
 erdekraft-Gruppe III: am Sonntag Nachmittag von 16:10-17:10 Uhr\n1. 27.Okto
 ber 2019\n2. 17.November 2019\n3. 24.November 2019\n4. 01.Dezember 2019\n\n
 \nDie Teilnahme erfolgt ausschließlich nach Voranmeldung per E-Mail an info
 @reitkindergarten-wien.at (mailto:info@reitkindergarten-wien.at). \nBabymam
 as Newsletter AbonnentInnen erhalten zudem 10% Rabatt auf die gesamte Kursg
 ebühr. \n\n\nWir freuen uns auf Euch!\n\n\nLiebe Grüße, \nSophie und das Re
 itKINDERGARTEN Team \n
X-ALT-DESC;FMTTYPE=text/html:<p style="text-align: center;"><strong>Einfach mal die Seele baumeln lassen
 ,<br />Kraft für den Alltag tanken und<br /></strong><strong>bewusst Zeit m
 it Ihrem Kind genießen!<br /><br /></strong></p><p>Im Herbst 2019 können <s
 trong>Kleinkinder</strong> im Alter von 1-3 Jahren, die bereits großes Inte
 resse an Pferden zeigen, in Begleitung von <strong>Mama</strong> oder <stro
 ng>Papa </strong>an unseren Eltern-Kind Gruppen teilnehmen.<br /><br /></p>
 <p><strong>Spiel</strong>-, <strong>Bewegungs</strong>- und <strong>Sinnesa
 nregungen </strong>rund um das Thema Pferd stehen im Mittelpunkt.? Die Zeit
  auf dem Pferd gestaltet sich für die <strong>Eltern-Kind-Teams </strong>in
 dividuell.<br /><br /></p><p style="text-align: center;"><strong>ReitKINDER
 GARTEN in Donaustadt</strong></p><p style="text-align: center;">Eßlinger Ha
 uptstraße 192, 1220 Wien</p><p style="text-align: center;"><strong>Pferdekr
 aft-Gruppe I</strong>: am <strong>Sonntag</strong> Nachmittag von <strong>1
 3:50-14:50</strong> Uhr</p><p style="text-align: center;"><strong>Pferdekra
 ft-Gruppe II</strong>: am <strong>Sonntag</strong> Nachmittag von <strong>1
 5:00-16:00</strong> Uhr</p><p style="text-align: center;"><strong>Pferdekra
 ft-Gruppe III</strong>: am <strong>Sonntag</strong> Nachmittag von <strong>
 16:10-17:10</strong> Uhr</p><p style="text-align: center;"><strong>1</stron
 g>. 27.Oktober 2019<strong><br />2</strong>. 17.November 2019<br /><strong>
 3</strong>. 24.November 2019<br /><strong>4</strong>. 01.Dezember 2019<br /
 ><br /></p><p>Die Teilnahme erfolgt ausschließlich nach <strong>Voranmeldun
 g per E-Mail</strong> an <a href="mailto:info@reitkindergarten-wien.at">inf
 o@reitkindergarten-wien.at</a>. <br />Babymamas Newsletter AbonnentInnen er
 halten zudem <strong>10% Rabatt</strong> auf die gesamte Kursgebühr. <br />
 <br /></p><p>Wir freuen uns auf Euch!<br /><br /></p><p>Liebe Grüße, <br />
 Sophie und das ReitKINDERGARTEN Team </p>
CONTACT:info@reitkindergarten-wien.at
X-EXTRAINFO:[preis='2800'][anmeldung='true']
DTSTAMP:20260423T182509
DTSTART:20191027T125000
DTEND:20191027T161000
SEQUENCE:0
RRULE:FREQ=WEEKLY;COUNT=3;INTERVAL=1;BYDAY=SU,SU,SU,SU,SU
TRANSP:OPAQUE
END:VEVENT
END:VCALENDAR