BEGIN:VCALENDAR
VERSION:2.0
PRODID:-//jEvents 2.0 for Joomla//EN
CALSCALE:GREGORIAN
METHOD:PUBLISH
BEGIN:VEVENT
UID:7f4b8cbaf71254404bb494d6f897cfea
CATEGORIES:6. Bezirk
CREATED:20191018T075406
SUMMARY:Vom Tragling zum Laufling - mein Baby wird mobil
LOCATION:6.\, Sandwirtgasse 13/12
DESCRIPTION:<div id="cc-m-11641314497" class="j-module n j-textWithImage "><div><div id
 ="cc-m-textwithimage-11641314497" class="cc-m-textwithimage-inline-rte" dat
 a-name="text" data-action="text"><h2><span style="font-size: 14px;">"Vom Tr
 agling zum Laufling - mein Baby wird mobil"</span></h2><p><span style="font
 -size: 14px;">Wie kann ich mein Kind unterstützen ohne unnötig einzugreifen
 ?<br /></span></p><p><span style="font-size: 14px;">Was kann die gesunde En
 twicklung und das natürliche Wachstum meines Kindes stören?<br /></span></p
 ><p><span style="font-size: 14px;">Ab wann braucht mein Kind Schuhe?<br /><
 /span></p><p><span style="font-size: 14px;">Und welche Schuhe sind die rich
 tigen?</span></p></div></div><div class="cc-clear"> </div></div><div id="cc
 -m-11641308197" class="j-module n j-text "><p>Bei diesem interaktiven Works
 hop werden wir all diese Fragen beantworten und du erhältst wertvolle Tipps
  rund um die Funktionsweise und Entwicklung des kindlichen Bewegungsapparat
 es.</p><p> </p><p>Mag. Catharina Rocchi - Mama von zwei Kindern, Craniosacr
 altherapeutin, Stillberaterin und Doula nimmt sich Zeit um all deine Fragen
  zu beantworten. Soll ich mein Kind mit Kissen stützen, damit es sitzen kan
 n? Braucht es eine Lauflernhilfe? Oder führe ich es besser an der Hand?</p>
 </div><div id="cc-m-11641308297" class="j-module n j-text "><p><strong>Wann
 </strong>: 25. Oktober 2019</p><p><strong>Uhrzeit</strong>: 15.00 - 16.30</
 p><p><strong>Kosten</strong>: € 18,- pro Person oder € 25,- für Paare</p><p
 ><strong>Kinder sind herzlich willkommen!</strong></p><p> </p><p><strong>An
 meldung hier: </strong></p><p><strong>http://bit.ly/35MiF9t</strong></p><p>
  </p><p> </p><div id="cc-m-11641319297" class="j-module n j-text "><p>Im An
 schluss an den Workshop findet ein Pop-Up-Verkauf von Barefoot Austria stat
 t. Du bekommst die Möglichkeit Barfußschuhe anzugreifen, anzuprobieren und 
 das Tragegefühl zu testen.</p><p><i>Wir freuen uns auf dich.</i></p><p><i>A
 lles Liebe,</i></p><p><i>Martina und das Biolino Team</i></p></div></div>
X-ALT-DESC;FMTTYPE=text/html:<div id="cc-m-11641314497" class="j-module n j-textWithImage "><div><div id
 ="cc-m-textwithimage-11641314497" class="cc-m-textwithimage-inline-rte" dat
 a-name="text" data-action="https://babymamas.at/text"><h2><span style="font
 -size: 14px;">"Vom Tragling zum Laufling - mein Baby wird mobil"</span></h2
 ><p><span style="font-size: 14px;">Wie kann ich mein Kind unterstützen ohne
  unnötig einzugreifen?<br /></span></p><p><span style="font-size: 14px;">Wa
 s kann die gesunde Entwicklung und das natürliche Wachstum meines Kindes st
 ören?<br /></span></p><p><span style="font-size: 14px;">Ab wann braucht mei
 n Kind Schuhe?<br /></span></p><p><span style="font-size: 14px;">Und welche
  Schuhe sind die richtigen?</span></p></div></div><div class="cc-clear"> </
 div></div><div id="cc-m-11641308197" class="j-module n j-text "><p>Bei dies
 em interaktiven Workshop werden wir all diese Fragen beantworten und du erh
 ältst wertvolle Tipps rund um die Funktionsweise und Entwicklung des kindli
 chen Bewegungsapparates.</p><p> </p><p>Mag. Catharina Rocchi - Mama von zwe
 i Kindern, Craniosacraltherapeutin, Stillberaterin und Doula nimmt sich Zei
 t um all deine Fragen zu beantworten. Soll ich mein Kind mit Kissen stützen
 , damit es sitzen kann? Braucht es eine Lauflernhilfe? Oder führe ich es be
 sser an der Hand?</p></div><div id="cc-m-11641308297" class="j-module n j-t
 ext "><p><strong>Wann</strong>: 25. Oktober 2019</p><p><strong>Uhrzeit</str
 ong>: 15.00 - 16.30</p><p><strong>Kosten</strong>: € 18,- pro Person oder €
  25,- für Paare</p><p><strong>Kinder sind herzlich willkommen!</strong></p>
 <p> </p><p><strong>Anmeldung hier: </strong></p><p><strong>http://bit.ly/35
 MiF9t</strong></p><p> </p><p> </p><div id="cc-m-11641319297" class="j-modul
 e n j-text "><p>Im Anschluss an den Workshop findet ein Pop-Up-Verkauf von 
 Barefoot Austria statt. Du bekommst die Möglichkeit Barfußschuhe anzugreife
 n, anzuprobieren und das Tragegefühl zu testen.</p><p><i>Wir freuen uns auf
  dich.</i></p><p><i>Alles Liebe,</i></p><p><i>Martina und das Biolino Team<
 /i></p></div></div>
CONTACT:martina.novak@biolino.at, 0677 628 929 70
DTSTAMP:20260423T195358
DTSTART:20191025T130000
DTEND:20191025T143000
SEQUENCE:0
TRANSP:OPAQUE
END:VEVENT
END:VCALENDAR