BEGIN:VCALENDAR
VERSION:2.0
PRODID:-//jEvents 2.0 for Joomla//EN
CALSCALE:GREGORIAN
METHOD:PUBLISH
BEGIN:VEVENT
UID:355bb55ebc1fd8c08b790c184ff83a3f
CATEGORIES:5. Bezirk
CREATED:20191018T181710
SUMMARY:Young Mums 5erHaus
LOCATION:1050\, Grünwaldgasse 4
DESCRIPTION:<p><strong>Angebot speziell für jugendliche Mütter mit ihren Kindern</stron
 g></p><p>Jugendliche können gemeinsam mit ihren Kindern jeden ersten und dr
 itten Mittwoch im Monat von 10-12 Uhr alle Angebote des Jugendzentrums nutz
 en...Jugendcafe, Billard, Wuzzler, Tonstudio, Bandproberaum, Turnsaal...<st
 rong>kostenlos und ohne Anmeldung!</strong></p>
CONTACT:o.horak@jugendzentren.at
DTSTAMP:20260425T134952
DTSTART:20191106T090000
DTEND:20191106T110000
SEQUENCE:0
TRANSP:OPAQUE
END:VEVENT
END:VCALENDAR