BEGIN:VCALENDAR
VERSION:2.0
PRODID:-//jEvents 2.0 for Joomla//EN
CALSCALE:GREGORIAN
METHOD:PUBLISH
BEGIN:VEVENT
UID:a084f8eba2583f79b177cab9ef5dd2b8
CATEGORIES:5. Bezirk
CREATED:20191018T183309
SUMMARY:Young Mums 5erHaus
LOCATION:1050\, Grünwaldgasse 4
DESCRIPTION:Angebot speziell für jugendliche Mütter mit ihren Kindern\nJugendliche könn
 en gemeinsam mit ihren Kindern jeden ersten und dritten Mittwoch im Monat v
 on 10-12 Uhr alle Angebote des Jugendzentrums nutzen...Jugendcafe, Billard,
  Wuzzler, Tonstudio, Bandproberaum, Turnsaal...kostenlos und ohne Anmeldung
 !\n
X-ALT-DESC;FMTTYPE=text/html:<p><strong>Angebot speziell für jugendliche Mütter mit ihren Kindern</stron
 g></p><p>Jugendliche können gemeinsam mit ihren Kindern jeden ersten und dr
 itten Mittwoch im Monat von 10-12 Uhr alle Angebote des Jugendzentrums nutz
 en...Jugendcafe, Billard, Wuzzler, Tonstudio, Bandproberaum, Turnsaal...<st
 rong>kostenlos und ohne Anmeldung!</strong></p>
CONTACT:o.horak@jugendzentren.at
DTSTAMP:20260423T141747
DTSTART:20191218T090000
DTEND:20191218T110000
SEQUENCE:0
TRANSP:OPAQUE
END:VEVENT
END:VCALENDAR