BEGIN:VCALENDAR
VERSION:2.0
PRODID:-//jEvents 2.0 for Joomla//EN
CALSCALE:GREGORIAN
METHOD:PUBLISH
BEGIN:VEVENT
UID:673db98431f0c53c3ce8b902aee9d7df
CATEGORIES:14. Bezirk
CREATED:20191021T235717
SUMMARY:"Die Babypause" - BABYMASSAGE
LOCATION:Glücksraum Gesundheitszentrum\, Kienmayergasse 16\, 1140 Wien
DESCRIPTION:"Die Babypause" - BABYMASSAGE                  www.diebabypause.com (http:/
 /www.diebabypause.com)\n \nDas Baby-Abhyanga ist eine traditionelle indisch
 e Babymassage mit Öl. Es handelt sich um eine wunderschöne Art der sanften 
 Berührung, eine liebevolle und wirksame Methode, dem Baby sehr nah zu komme
 n und sein Wohlbefinden zu stärken. Regelmäßige Massage unterstützt die kör
 perliche, geistige und auch seelische Entwicklung des Kindes.\nDer Kurs sol
 l als intensive Zeit als Familie gesehen werden, d.h. es sind Mama, Papa &a
 mp; Kind herzlich zum Kurs eingeladen. Es darf sowohl die Mama, als auch de
 r Papa massieren. \n \n \nPositive Wirkungen\n\n - Stärkt die Verdauuung, b
 eugt damit Blähungen und Koliken vor\n\n - Verbessert die Durchblutung der 
 Haut &amp; Muskulatur\n\n - Stärkt das Immunsystem - Glückshormone werden a
 usgeschüttet\n\n - Körperbewusstsein/Körperwahrnehmung\n\n - fördert die Bi
 ndung zwischen Eltern und Baby\n \n \nKursdauer: 3 Einheiten zu jeweils 2 S
 td.\nTermine: 23.11, 30.11, 06.12 - immer um 9:30-11:30\nSollten Plätze fre
 i sein, ist auch ein Einstieg mitten im Kurs möglich. Melde dich bitte unte
 r office@diebabypause.com (mailto:office@diebabypause.com)\n \nEine Einheit
  beinhaltet die Massage bzw. das Erlernen der Massagegriffe, anschließendes
  Kuscheln/Nachspüren und theoretisches Basiswissen rund um das Thema Babyma
 ssage. \nWir massieren in kleinen Gruppen (max. 4 Babys) mit warmen gereift
 em Sesamöl. Es kann  \n \nZum Mitnehmen:\n\n - 1 großes Handtuch\n\n - 2 St
 offwindeln\n\n - Baumwollhaube fürs Baby\n\n - bequeme Kleidung zum Umziehe
 n für dich \n \n \nIch freue mich dich und deine kleine Familie kennenzuler
 nen!\n \nAlles Liebe,\nAndrea\n
X-ALT-DESC;FMTTYPE=text/html:<p><strong>"Die Babypause" - BABYMASSAGE                  <a href="http://w
 ww.diebabypause.com">www.diebabypause.com</a></strong></p><p> </p><p class=
 "font_8"><span class="color_18">Das Baby-Abhyanga ist eine traditionelle in
 dische <strong><span style="text-decoration: underline;">Babymassage mit Öl
 .</span></strong> Es handelt sich um eine wunderschöne Art der sanften Berü
 hrung, eine liebevolle und wirksame Methode, dem Baby sehr nah zu kommen un
 d sein Wohlbefinden zu stärken. Regelmäßige Massage unterstützt die körperl
 iche, geistige und auch seelische Entwicklung des Kindes.</span></p><p clas
 s="font_8"><span class="color_18">Der Kurs soll als intensive Zeit als Fami
 lie gesehen werden, d.h. es sind Mama, Papa &amp; Kind herzlich zum Kurs ei
 ngeladen. <span style="text-decoration: underline;">Es darf sowohl die Mama
 , als auch der Papa massieren. </span></span></p><p class="font_8"><span cl
 ass="color_18"><span class="wixGuard"> </span></span></p><p class="font_8">
  </p><p class="font_8"><strong><span class="color_18">Positive Wirkungen</s
 pan></strong></p><ul class="color_18 font_8"><li><p class="font_8"><span cl
 ass="color_18">Stärkt die Verdauuung, beugt damit Blähungen und Koliken vor
 </span></p></li><li><p class="font_8"><span class="color_18">Verbessert die
  Durchblutung der Haut &amp; Muskulatur</span></p></li><li><p class="font_8
 "><span class="color_18">Stärkt das Immunsystem - Glückshormone werden ausg
 eschüttet</span></p></li><li><p class="font_8"><span class="color_18">Körpe
 rbewusstsein/Körperwahrnehmung</span></p></li><li><p class="font_8"><span c
 lass="color_18">fördert die Bindung zwischen Eltern und Baby</span></p></li
 ></ul><p class="font_8"><span class="color_18"><span class="wixGuard"> </sp
 an></span></p><p class="font_8"> </p><p class="font_8"><strong><span class=
 "color_18">Kursdauer: 3 Einheiten zu jeweils 2 Std.</span></strong></p><p c
 lass="font_8"><span class="color_18"><strong>Termine:</strong> 23.11, 30.11
 , 06.12 - immer um 9:30-11:30</span></p><p class="font_8"><span class="colo
 r_18">Sollten Plätze frei sein, ist auch ein Einstieg mitten im Kurs möglic
 h. Melde dich bitte unter <strong><a href="mailto:office@diebabypause.com">
 office@diebabypause.com</a></strong></span></p><p class="font_8"> </p><ul><
 li class="font_8"><span class="color_18">Eine Einheit beinhaltet die Massag
 e bzw. das Erlernen der Massagegriffe, anschließendes Kuscheln/Nachspüren u
 nd theoretisches Basiswissen rund um das Thema Babymassage.</span></li></ul
 ><p class="font_8"><span class="color_18"><span class="wixGuard"> </span></
 span></p><ul><li class="font_8"><span class="color_18">Wir massieren in kle
 inen Gruppen (max. 4 Babys) mit warmen gereiftem Sesamöl. Es kann </span></
 li></ul><p class="font_8"><span class="color_18"><span class="wixGuard"> </
 span></span></p><p class="font_8"> </p><p class="font_8"><strong><span clas
 s="color_18">Zum Mitnehmen:</span></strong></p><ul class="color_18 font_8">
 <li><p class="font_8"><span class="color_18">1 großes Handtuch</span></p></
 li><li><p class="font_8"><span class="color_18">2 Stoffwindeln</span></p></
 li><li><p class="font_8"><span class="color_18">Baumwollhaube fürs Baby</sp
 an></p></li><li><p class="font_8"><span class="color_18">bequeme Kleidung z
 um Umziehen für dich </span></p></li></ul><p> </p><p> </p><p><span class="c
 olor_18">Ich freue mich dich und deine kleine Familie kennenzulernen!</span
 ></p><p> </p><p><span class="color_18">Alles Liebe,</span></p><p><span clas
 s="color_18">Andrea</span></p>
CONTACT:office@diebabypause.com
X-EXTRAINFO:[preis='9500'][anmeldung='true']
DTSTAMP:20260423T182506
DTSTART:20191123T083000
DTEND:20191123T103000
SEQUENCE:0
TRANSP:OPAQUE
END:VEVENT
END:VCALENDAR