BEGIN:VCALENDAR
VERSION:2.0
PRODID:-//jEvents 2.0 for Joomla//EN
CALSCALE:GREGORIAN
METHOD:PUBLISH
BEGIN:VEVENT
UID:caf84e1052bfad41d297698a480203b2
CATEGORIES:14. Bezirk
CREATED:20191022T000012
SUMMARY:"Die Babypause" - BABYMASSAGE
LOCATION:Glücksraum Gesundheitszentrum\, Kienmayergasse 16\, 1140 Wien
DESCRIPTION:"Die Babypause" - BABYMASSAGE                  www.diebabypause.com (http:/
 /www.diebabypause.com/)\n \nDas Baby-Abhyanga ist eine traditionelle indisc
 he Babymassage mit Öl. Es handelt sich um eine wunderschöne Art der sanften
  Berührung, eine liebevolle und wirksame Methode, dem Baby sehr nah zu komm
 en und sein Wohlbefinden zu stärken. Regelmäßige Massage unterstützt die kö
 rperliche, geistige und auch seelische Entwicklung des Kindes.\nDer Kurs so
 ll als intensive Zeit als Familie gesehen werden, d.h. es sind Mama, Papa &
 amp; Kind herzlich zum Kurs eingeladen. Es darf sowohl die Mama, als auch d
 er Papa massieren. \n \n \nPositive Wirkungen\n\n - Stärkt die Verdauuung, 
 beugt damit Blähungen und Koliken vor\n\n - Verbessert die Durchblutung der
  Haut &amp; Muskulatur\n\n - Stärkt das Immunsystem - Glückshormone werden 
 ausgeschüttet\n\n - Körperbewusstsein/Körperwahrnehmung\n\n - fördert die B
 indung zwischen Eltern und Baby\n \n \nKursdauer: 3 Einheiten zu jeweils 2 
 Std.\nTermine: 23.11, 30.11, 06.12 - immer um 9:30-11:30\nSollten Plätze fr
 ei sein, ist auch ein Einstieg mitten im Kurs möglich. Melde dich bitte unt
 er office@diebabypause.com (mailto:office@diebabypause.com)\n \nEine Einhei
 t beinhaltet die Massage bzw. das Erlernen der Massagegriffe, anschließende
 s Kuscheln/Nachspüren und theoretisches Basiswissen rund um das Thema Babym
 assage. \nWir massieren in kleinen Gruppen (max. 4 Babys) mit warmen gereif
 tem Sesamöl. Es kann  \n \nZum Mitnehmen:\n\n - 1 großes Handtuch\n\n - 2 S
 toffwindeln\n\n - Baumwollhaube fürs Baby\n\n - bequeme Kleidung zum Umzieh
 en für dich \n \n \nIch freue mich dich und deine kleine Familie kennenzule
 rnen!\n \nAlles Liebe,\nAndrea\n
X-ALT-DESC;FMTTYPE=text/html:<p><strong>"Die Babypause" - BABYMASSAGE                  <a href="http://w
 ww.diebabypause.com/">www.diebabypause.com</a></strong></p><p> </p><p class
 ="font_8"><span class="color_18">Das Baby-Abhyanga ist eine traditionelle i
 ndische <strong><span style="text-decoration: underline;">Babymassage mit Ö
 l.</span></strong> Es handelt sich um eine wunderschöne Art der sanften Ber
 ührung, eine liebevolle und wirksame Methode, dem Baby sehr nah zu kommen u
 nd sein Wohlbefinden zu stärken. Regelmäßige Massage unterstützt die körper
 liche, geistige und auch seelische Entwicklung des Kindes.</span></p><p cla
 ss="font_8"><span class="color_18">Der Kurs soll als intensive Zeit als Fam
 ilie gesehen werden, d.h. es sind Mama, Papa &amp; Kind herzlich zum Kurs e
 ingeladen. <span style="text-decoration: underline;">Es darf sowohl die Mam
 a, als auch der Papa massieren. </span></span></p><p class="font_8"><span c
 lass="color_18"><span class="wixGuard"> </span></span></p><p class="font_8"
 > </p><p class="font_8"><strong><span class="color_18">Positive Wirkungen</
 span></strong></p><ul class="color_18 font_8"><li><p class="font_8"><span c
 lass="color_18">Stärkt die Verdauuung, beugt damit Blähungen und Koliken vo
 r</span></p></li><li><p class="font_8"><span class="color_18">Verbessert di
 e Durchblutung der Haut &amp; Muskulatur</span></p></li><li><p class="font_
 8"><span class="color_18">Stärkt das Immunsystem - Glückshormone werden aus
 geschüttet</span></p></li><li><p class="font_8"><span class="color_18">Körp
 erbewusstsein/Körperwahrnehmung</span></p></li><li><p class="font_8"><span 
 class="color_18">fördert die Bindung zwischen Eltern und Baby</span></p></l
 i></ul><p class="font_8"><span class="color_18"><span class="wixGuard"> </s
 pan></span></p><p class="font_8"> </p><p class="font_8"><strong><span class
 ="color_18">Kursdauer: 3 Einheiten zu jeweils 2 Std.</span></strong></p><p 
 class="font_8"><span class="color_18"><strong>Termine:</strong> 23.11, 30.1
 1, 06.12 - immer um 9:30-11:30</span></p><p class="font_8"><span class="col
 or_18">Sollten Plätze frei sein, ist auch ein Einstieg mitten im Kurs mögli
 ch. Melde dich bitte unter <strong><a href="mailto:office@diebabypause.com"
 >office@diebabypause.com</a></strong></span></p><p class="font_8"> </p><ul>
 <li class="font_8"><span class="color_18">Eine Einheit beinhaltet die Massa
 ge bzw. das Erlernen der Massagegriffe, anschließendes Kuscheln/Nachspüren 
 und theoretisches Basiswissen rund um das Thema Babymassage.</span></li></u
 l><p> </p><ul><li class="font_8"><span class="color_18">Wir massieren in kl
 einen Gruppen (max. 4 Babys) mit warmen gereiftem Sesamöl. Es kann </span><
 /li></ul><p class="font_8"><span class="color_18"><span class="wixGuard"> <
 /span></span></p><p class="font_8"> </p><p class="font_8"><strong><span cla
 ss="color_18">Zum Mitnehmen:</span></strong></p><ul class="color_18 font_8"
 ><li><p class="font_8"><span class="color_18">1 großes Handtuch</span></p><
 /li><li><p class="font_8"><span class="color_18">2 Stoffwindeln</span></p><
 /li><li><p class="font_8"><span class="color_18">Baumwollhaube fürs Baby</s
 pan></p></li><li><p class="font_8"><span class="color_18">bequeme Kleidung 
 zum Umziehen für dich </span></p></li></ul><p> </p><p> </p><p><span class="
 color_18">Ich freue mich dich und deine kleine Familie kennenzulernen!</spa
 n></p><p> </p><p><span class="color_18">Alles Liebe,</span></p><p><span cla
 ss="color_18">Andrea</span></p>
CONTACT:office@diebabypause.com
X-EXTRAINFO:[preis='9500'][anmeldung='true']
DTSTAMP:20260423T165659
DTSTART:20191130T083000
DTEND:20191130T103000
SEQUENCE:0
TRANSP:OPAQUE
END:VEVENT
END:VCALENDAR