BEGIN:VCALENDAR
VERSION:2.0
PRODID:-//jEvents 2.0 for Joomla//EN
CALSCALE:GREGORIAN
METHOD:PUBLISH
BEGIN:VEVENT
UID:7255cfa7ec1870efd3de880400b46a42
CATEGORIES:18. Bezirk
CREATED:20191022T102721
SUMMARY:Kreative Freude "Monster & Spinnen"
LOCATION:SPIELRINGEL Mollgasse 11-13
DESCRIPTION:Bastelworkshops für Kinder ab 2 Jahren (mit Begleitung)Kosten: € 20,- pro K
 ind mit Begleitperson\n5er Blockkarte €90,- (einlösbar innerhalb eines Jahr
 es)\nInfo &amp; Anmeldung:\n office@spielringel.at\nBei der Kreativen Freud
 e geht es weniger um das Endprodukt, als um den Spaß und die Freude beim Kr
 eativ sein.\nEs werden verschiedene Bastelmaterialien und Ideen zu einem Th
 ema zur Verfügung gestellt und die Kinder dürfen nach Lust und Laune werken
 .\nWir malen, basteln, schnippseln, stempeln, stanzen, kleben, formen, usw 
 .-  daher ist es sinnvoll, Gewand, das auch schmutzig werden darf, anzuzieh
 en.\n
X-ALT-DESC;FMTTYPE=text/html:<h3 class="element-subheader ">Bastelworkshops für Kinder ab 2 Jahren (mit 
 Begleitung)</h3><div id="c354" class="frame frame-default frame-type-textpi
 c frame-background- frame-no-backgroundimage frame-space-before-none frame-
 space-after-none"><div class="frame-container"><div class="frame-inner"><di
 v class="row"><div class="col-md-pull-6 col-md-6 col-xs-12"><p><span class=
 "text-primary">Kosten: </span>€ 20,- pro Kind mit Begleitperson</p><p>5er B
 lockkarte €90,- (einlösbar innerhalb eines Jahres)</p><p><span class="text-
 primary">Info &amp; Anmeldung:</span><br /> office@spielringel.at</p></div>
 </div></div></div></div><div id="c391" class="frame frame-default frame-typ
 e-textpic frame-background- frame-no-backgroundimage frame-space-before-non
 e frame-space-after-none"><div class="frame-container"><div class="frame-in
 ner"><p>Bei der Kreativen Freude geht es weniger um das Endprodukt, als um 
 den Spaß und die Freude beim Kreativ sein.</p><p>Es werden verschiedene Bas
 telmaterialien und Ideen zu einem Thema zur Verfügung gestellt und die Kind
 er dürfen nach Lust und Laune werken.</p><p>Wir malen, basteln, schnippseln
 , stempeln, stanzen, kleben, formen, usw .-  daher ist es sinnvoll, Gewand,
  das auch schmutzig werden darf, anzuziehen.</p></div></div></div>
CONTACT:http://schwangerschaft-elternschaft.at/angebote/spiel-spass-musik/kreative-freude/
DTSTAMP:20260425T170424
DTSTART:20191024T123000
DTEND:20191024T140000
SEQUENCE:0
TRANSP:OPAQUE
END:VEVENT
END:VCALENDAR