BEGIN:VCALENDAR
VERSION:2.0
PRODID:-//jEvents 2.0 for Joomla//EN
CALSCALE:GREGORIAN
METHOD:PUBLISH
BEGIN:VEVENT
UID:ce0efae0e6187f41ba19a4da95092c22
CATEGORIES:18. Bezirk
CREATED:19700101T010000
SUMMARY: Spielgruppe mit Musik für Babys (6-14 Monate)
LOCATION:SPIELRINGEL Mollgasse 11-13
DESCRIPTION:Start:\n 28.10..2019 mit Susanne\nKurstag:\n Montag 14:00-15:30\nTermine:\n
 28.10., 4.11., 18.11., 25.11. und 2.12.\nKosten:\n€ 90,- (5 Wochen-Kurs)\nI
 nfo &amp; Anmeldung:\noffice@spielringel.at (mailto:kontakt@schwangerschaft
 -elternschaft.at)\n \n„Musikalität ist vor allem die Fähigkeit von Musik be
 rührt zu werden.“\nEs wird dem Alter und der Entwicklung der Babys entsprec
 hend, gespielt, gesungen, getanzt und musiziert. Musik fördert die Entwickl
 ung von Babys: Sie ist gut für die Bewegungskoordination, die Sprachentwick
 lung, den Gleichgewichtssinn und die Bindung zur Bezugsperson. Das beste da
 ran ist, dass es einfach Freude macht!\n
X-ALT-DESC;FMTTYPE=text/html:<p><span class="text-primary">Start:</span><br /> 28.10..2019 mit Susanne</
 p><p><span class="text-primary">Kurstag</span>:<br /> Montag 14:00-15:30</p
 ><p><span class="text-primary">Termine:</span></p><p>28.10., 4.11., 18.11.,
  25.11. und 2.12.</p><p><span class="text-primary">Kosten:</span></p><p>€ 9
 0,- (5 Wochen-Kurs)</p><p><span class="text-primary">Info &amp; Anmeldung:<
 /span><br /><a href="mailto:kontakt@schwangerschaft-elternschaft.at">office
 @spielringel.at</a></p><p> </p><div id="c234" class="frame frame-default fr
 ame-type-text frame-background-none frame-no-backgroundimage frame-space-be
 fore-none frame-space-after-none"><div class="frame-container"><div class="
 frame-inner"><p><strong><em>„</em>Musikalität ist vor allem die Fähigkeit v
 on Musik berührt zu werden.<em>“</em></strong></p><p>Es wird dem Alter und 
 der Entwicklung der Babys entsprechend, gespielt, gesungen, getanzt und mus
 iziert. Musik fördert die Entwicklung von Babys: Sie ist gut für die Bewegu
 ngskoordination, die Sprachentwicklung, den Gleichgewichtssinn und die Bind
 ung zur Bezugsperson. Das beste daran ist, dass es einfach Freude macht!</p
 ></div></div></div>
CONTACT:office@spielringel.at
DTSTAMP:20260423T162701
DTSTART:20191028T130000
DTEND:20191028T143000
SEQUENCE:0
RRULE:FREQ=WEEKLY;UNTIL=20191203T000000Z;INTERVAL=1;BYDAY=MO
TRANSP:OPAQUE
END:VEVENT
END:VCALENDAR