BEGIN:VCALENDAR
VERSION:2.0
PRODID:-//jEvents 2.0 for Joomla//EN
CALSCALE:GREGORIAN
METHOD:PUBLISH
BEGIN:VEVENT
UID:91025af711b5e6823b5ab6367b95411f
CATEGORIES:10. Bezirk
CREATED:20191101T151047
SUMMARY:Tierisch kreativer Advent (ab 1,5 Jahren)
LOCATION:Erholungsgebiet Wienerberg\, Grohnergasse 1\, 1100 Wien 
DESCRIPTION:Warm eingepackt treffen wir uns zum Adventspaziergang durch die Natur und a
 m Teich entlang. Dort sehen wir nach, welche Tiere noch wach sind und hänge
 n ein paar Futtergeschenke in die Bäume. Auf dem Weg sammeln wir alles was 
 uns nützlich erscheint - Nüsse, Nussschalen, Zapfen, Äste, Steine etc.\nWen
 n wir ein nettes Plätzchen zum rasten gefunden haben, wärmen wir uns auf un
 d basteln aus dem gesammelten Naturmaterial Christbaumschmuck und Weihnacht
 sdekoration.\n \nZum Abschluss entzünden wir einen improvisierten Adventkra
 nz, den wir aus dem restlichen Naturmaterial basteln und lassen den Ausflug
  ausklingen.\n \nAlter\n1,5 - 8 Jahre\nNatürlich sind jüngere und ältere Ge
 schwister willkommen.\n \nKosten\n24 Euro (2 Stunden) pro Kind\nMama und Pa
 pa zahlen nichts, für jede weitere erwachsene Person (z.B. Oma und Opa) fal
 len 3 Euro an.\nGeschwisterrabatt auf Anfrage!\n \nTreffpunkt\nErholungsgeb
 iet Wienerberg, Parkplatz (kostenloses Parken möglich)\nGrohnergasse 1, 110
 0 Wien\n \nÖffentliche Erreichbarkeit:\nU6 bis Station „Am Schöpfwerk”, Aut
 obuslinie 16A bis Station “ Computerstraße”, ca. 5 Gehminuten\n \nAnmeldung
 \nEinfach per E-Mail an anmeldung@tierischerkreativgarten.at\n
X-ALT-DESC;FMTTYPE=text/html:<p>Warm eingepackt treffen wir uns zum Adventspaziergang durch die Natur un
 d am Teich entlang. Dort sehen wir nach, welche Tiere noch wach sind und hä
 ngen ein paar Futtergeschenke in die Bäume. Auf dem Weg sammeln wir alles w
 as uns nützlich erscheint - Nüsse, Nussschalen, Zapfen, Äste, Steine etc.</
 p><p>Wenn wir ein nettes Plätzchen zum rasten gefunden haben, wärmen wir un
 s auf und basteln aus dem gesammelten Naturmaterial Christbaumschmuck und W
 eihnachtsdekoration.</p><p> </p><p>Zum Abschluss entzünden wir einen improv
 isierten Adventkranz, den wir aus dem restlichen Naturmaterial basteln und 
 lassen den Ausflug ausklingen.</p><p> </p><p>Alter</p><p>1,5 - 8 Jahre</p><
 p>Natürlich sind jüngere und ältere Geschwister willkommen.</p><p> </p><p>K
 osten</p><p>24 Euro (2 Stunden) pro Kind</p><p>Mama und Papa zahlen nichts,
  für jede weitere erwachsene Person (z.B. Oma und Opa) fallen 3 Euro an.</p
 ><p>Geschwisterrabatt auf Anfrage!</p><p><span class="Apple-converted-space
 "> </span></p><p>Treffpunkt</p><p>Erholungsgebiet Wienerberg, Parkplatz (ko
 stenloses Parken möglich)</p><p>Grohnergasse 1, 1100 Wien</p><p> </p><p>Öff
 entliche Erreichbarkeit:</p><p>U6 bis Station „Am Schöpfwerk”, Autobuslinie
  16A bis Station “ Computerstraße”, ca. 5 Gehminuten</p><p> </p><p>Anmeldun
 g</p><p>Einfach per E-Mail an anmeldung@tierischerkreativgarten.at</p>
CONTACT:anmeldung@tierischerkreativgarten.at
DTSTAMP:20260424T205820
DTSTART:20191101T083000
DTEND:20191101T103000
SEQUENCE:0
TRANSP:OPAQUE
END:VEVENT
END:VCALENDAR