BEGIN:VCALENDAR
VERSION:2.0
PRODID:-//jEvents 2.0 for Joomla//EN
CALSCALE:GREGORIAN
METHOD:PUBLISH
BEGIN:VEVENT
UID:d4ceb20db76deba3639070de6f9f47c9
CATEGORIES:10. Bezirk
CREATED:19700101T010000
SUMMARY:Tierisch kreativer Advent (ab 1,5 Jahren)
LOCATION:Erholungsgebiet Wienerberg\, Grohnergasse 1\, 1100 Wien
DESCRIPTION:Warm eingepackt treffen wir uns zum Adventspaziergang durch die Natur und a
 m Teich entlang. Dort sehen wir nach, welche Tiere noch wach sind und hänge
 n ein paar Futtergeschenke in die Bäume. Auf dem Weg sammeln wir alles was 
 uns nützlich erscheint - Nüsse, Nussschalen, Zapfen, Äste, Steine etc.\nWen
 n wir ein nettes Plätzchen zum rasten gefunden haben, wärmen wir uns auf un
 d basteln aus dem gesammelten Naturmaterial Christbaumschmuck und Weihnacht
 sdekoration.\n \nZum Abschluss entzünden wir einen improvisierten Adventkra
 nz, den wir aus dem restlichen Naturmaterial basteln und lassen den Ausflug
  ausklingen.\n \nAlter\n1,5 - 8 Jahre\nNatürlich sind jüngere und ältere Ge
 schwister willkommen.\n \n \nKosten\n24 Euro (2 Stunden) pro Kind\nMama und
  Papa zahlen nichts, für jede weitere erwachsene Person (z.B. Oma und Opa) 
 fallen 3 Euro an.\n \nGeschwisterrabatt auf Anfrage!\n \n \n \nTreffpunkt\n
 Erholungsgebiet Wienerberg, Parkplatz (kostenloses Parken möglich)\nGrohner
 gasse 1, 1100 Wien\n \nÖffentliche Erreichbarkeit:\nU6 bis Station „Am Schö
 pfwerk”, Autobuslinie 16A bis Station “ Computerstraße”, ca. 5 Gehminuten\n
  \n \nAnmeldung erforderlich!\nEinfach per E-Mail an anmeldung@tierischerkr
 eativgarten.at\n
X-ALT-DESC;FMTTYPE=text/html:<p>Warm eingepackt treffen wir uns zum Adventspaziergang durch die Natur un
 d am Teich entlang. Dort sehen wir nach, welche Tiere noch wach sind und hä
 ngen ein paar Futtergeschenke in die Bäume. Auf dem Weg sammeln wir alles w
 as uns nützlich erscheint - Nüsse, Nussschalen, Zapfen, Äste, Steine etc.</
 p><p>Wenn wir ein nettes Plätzchen zum rasten gefunden haben, wärmen wir un
 s auf und basteln aus dem gesammelten Naturmaterial Christbaumschmuck und W
 eihnachtsdekoration.</p><p> </p><p>Zum Abschluss entzünden wir einen improv
 isierten Adventkranz, den wir aus dem restlichen Naturmaterial basteln und 
 lassen den Ausflug ausklingen.</p><p> </p><p>Alter</p><p>1,5 - 8 Jahre</p><
 p>Natürlich sind jüngere und ältere Geschwister willkommen.</p><p> </p><p> 
 </p><p>Kosten</p><p>24 Euro (2 Stunden) pro Kind</p><p>Mama und Papa zahlen
  nichts, für jede weitere erwachsene Person (z.B. Oma und Opa) fallen 3 Eur
 o an.</p><p> </p><p>Geschwisterrabatt auf Anfrage!</p><p> </p><p><span clas
 s="Apple-converted-space"> </span></p><p> </p><p>Treffpunkt</p><p>Erholungs
 gebiet Wienerberg, Parkplatz (kostenloses Parken möglich)</p><p>Grohnergass
 e 1, 1100 Wien</p><p> </p><p>Öffentliche Erreichbarkeit:</p><p>U6 bis Stati
 on „Am Schöpfwerk”, Autobuslinie 16A bis Station “ Computerstraße”, ca. 5 G
 ehminuten</p><p><span class="Apple-converted-space"> </span></p><p> </p><p>
 <b>Anmeldung erforderlich</b>!</p><p>Einfach per E-Mail an anmeldung@tieris
 cherkreativgarten.at</p>
CONTACT:anmeldung@tierischerkreativgarten.at
DTSTAMP:20260423T144128
DTSTART:20191201T083000
DTEND:20191201T103000
SEQUENCE:0
RRULE:FREQ=WEEKLY;UNTIL=20191223T000000Z;INTERVAL=1;BYDAY=SU,SU,SU,SU,SU
TRANSP:OPAQUE
END:VEVENT
END:VCALENDAR