BEGIN:VCALENDAR
VERSION:2.0
PRODID:-//jEvents 2.0 for Joomla//EN
CALSCALE:GREGORIAN
METHOD:PUBLISH
BEGIN:VEVENT
UID:69d69720a7b0c87dbd7b2370d342847f
CATEGORIES:18. Bezirk
CREATED:20191104T095246
SUMMARY:BabyShiatsu Kennenlernen 
LOCATION:SPIELRINGEL Mollgasse 11-13
DESCRIPTION:Shiatsu für Babys ist nicht nur wohltuend sondern kann bei Alltagswehwehche
 n hilfreich sein (Bauchweh, Schlaf, Unruhe,Zahnen,..) und unterstützt gleic
 hzeitig die kindliche Entwicklung. Die gezielten Handgriffe und der damit v
 erbundene Druck gibt den Kindern eine klare Information und damit die Mögli
 chkeit, sich selber besser zu spüren. So lernen Babys schon früh, zwischen 
 dem Selbst und der Außenwelt zu unterscheiden und sich wahrzunehmen. Auf di
 ese Art wird der Grundstein auf eine gute Körperhaltung gesetzt und die mot
 orische Entwicklung begleitet. Shiatsu hilft dem Baby dabei Reize leichter 
 zu verarbeiten und der Tast- und Gleichgewichtsinn wird geschult.\nInfo &am
 p; Anmeldung:\nDaniela.perner@mamafit.at (mailto:Daniela.perner@mamafit.at)
 \noder +43 676 9745216  \n
X-ALT-DESC;FMTTYPE=text/html:<p>Shiatsu für Babys ist nicht nur wohltuend sondern kann bei Alltagswehweh
 chen hilfreich sein (Bauchweh, Schlaf, Unruhe,Zahnen,..) und unterstützt gl
 eichzeitig die kindliche Entwicklung. Die gezielten Handgriffe und der dami
 t verbundene Druck gibt den Kindern eine klare Information und damit die Mö
 glichkeit, sich selber besser zu spüren. So lernen Babys schon früh, zwisch
 en dem Selbst und der Außenwelt zu unterscheiden und sich wahrzunehmen. Auf
  diese Art wird der Grundstein auf eine gute Körperhaltung gesetzt und die 
 motorische Entwicklung begleitet. Shiatsu hilft dem Baby dabei Reize leicht
 er zu verarbeiten und der Tast- und Gleichgewichtsinn wird geschult.</p><p>
 <span class="text-primary">Info &amp; Anmeldung:</span></p><p><a href="mail
 to:Daniela.perner@mamafit.at">Daniela.perner@mamafit.at</a></p><p>oder +43 
 676 9745216  </p>
CONTACT:http://schwangerschaft-elternschaft.at/angebote/vortraege-workshops/babyshiatsu-kennenlernen/
X-EXTRAINFO:[preis='1800'][anmeldung='true']
DTSTAMP:20260425T153854
DTSTART:20191106T110000
DTEND:20191106T120000
SEQUENCE:0
TRANSP:OPAQUE
END:VEVENT
END:VCALENDAR