BEGIN:VCALENDAR
VERSION:2.0
PRODID:-//jEvents 2.0 for Joomla//EN
CALSCALE:GREGORIAN
METHOD:PUBLISH
BEGIN:VEVENT
UID:4ee1e2449546395529a8ccec6ecad38e
CATEGORIES:18. Bezirk
CREATED:19700101T010000
SUMMARY:Sinnesspielgruppe für Kleinstkinder 
LOCATION:SPIELRINGEL Mollgasse 11-13
DESCRIPTION:von ca. 10 Monaten bis 2 Jahre (mit Begleitperson)In unserer Sinnesspielgru
 ppe entdecken die Kinder spielend viel Neues und lernen dabei auch noch neu
 e Freunde kennen. Die Sinne der Kinder werden mit Hilfe verschiedener Mater
 ialien spielerisch angeregt, es wird experimentiert und auch gebastelt. Ach
 tsamkeit, Wahrnehmungsförderung und Sinnesschulung stehen im Vordergrund! K
 reisspiele, Kniereiter und Fingerreime gehören genauso dazu, wie der Austau
 sch mit anderen Eltern.\nGenießt die Zeit beim gemeinsamen Spielen und Entd
 ecken mit euren Kindern!\nBitte Kleidung anziehen, die auch schmutzig werde
 n darf!\nTermine: 17.10., 24.10.(entfallen), 7.11., 14.11., 21.11., 28.11.\
 n€ 75 (5 Wochen-Kurs)\nInfo &amp; Anmeldung:\noffice@spielringel.at (mailto
 :kontakt@schwangerschaft-elternschaft.at)\n
X-ALT-DESC;FMTTYPE=text/html:<h3 class="element-subheader ">von ca. 10 Monaten bis 2 Jahre (mit Begleitp
 erson)</h3><p>In unserer Sinnesspielgruppe entdecken die Kinder spielend vi
 el Neues und lernen dabei auch noch neue Freunde kennen. Die Sinne der Kind
 er werden mit Hilfe verschiedener Materialien spielerisch angeregt, es wird
  experimentiert und auch gebastelt. Achtsamkeit, Wahrnehmungsförderung und 
 Sinnesschulung stehen im Vordergrund! Kreisspiele, Kniereiter und Fingerrei
 me gehören genauso dazu, wie der Austausch mit anderen Eltern.</p><p>Genieß
 t die Zeit beim gemeinsamen Spielen und Entdecken mit euren Kindern!</p><p>
 Bitte Kleidung anziehen, die auch schmutzig werden darf!</p><p><span class=
 "text-primary">Termine:</span> 17.10., 24.10.(entfallen), 7.11., 14.11., 21
 .11., 28.11.</p><p>€ 75 (5 Wochen-Kurs)</p><p><span class="text-primary">In
 fo &amp; Anmeldung:</span><br /><a href="mailto:kontakt@schwangerschaft-elt
 ernschaft.at">office@spielringel.at</a></p>
CONTACT:office@spielringel.at
X-EXTRAINFO:[preis='7500'][anmeldung='true']
DTSTAMP:20260425T153806
DTSTART:20191107T090000
DTEND:20191107T100000
SEQUENCE:0
RRULE:FREQ=WEEKLY;UNTIL=20191129T000000Z;INTERVAL=1;BYDAY=TH
TRANSP:OPAQUE
END:VEVENT
END:VCALENDAR