BEGIN:VCALENDAR
VERSION:2.0
PRODID:-//jEvents 2.0 for Joomla//EN
CALSCALE:GREGORIAN
METHOD:PUBLISH
BEGIN:VEVENT
UID:f4a82fbf532eae748817fe645270ddc2
CATEGORIES:18. Bezirk
CREATED:19700101T010000
SUMMARY:BABYPLAUSCH
LOCATION:SPIELRINGEL Mollgasse 11-13
DESCRIPTION:Als Mama hat man oft das Bedürfnis sich mit anderen Mamas auszutauschen, da
 s könnt ihr ganz ungezwungen Freitag vormittags im Spielringel bei Tee und 
 Kuchen. Für die Babys gibt es allerlei zu entdecken!\nKosten:\n 10,- Euro p
 ro Erwachsenem\nInfo &amp; Anmeldung:\n ohne Anmeldung - komm einfach vorbe
 i!\n
X-ALT-DESC;FMTTYPE=text/html:<p>Als Mama hat man oft das Bedürfnis sich mit anderen Mamas auszutauschen,
  das könnt ihr ganz ungezwungen Freitag vormittags im Spielringel bei Tee u
 nd Kuchen. Für die Babys gibt es allerlei zu entdecken!</p><p><span class="
 text-primary">Kosten:</span><br /> 10,- Euro pro Erwachsenem</p><p><span cl
 ass="text-primary">Info &amp; Anmeldung:</span><br /> ohne Anmeldung - komm
  einfach vorbei!</p>
CONTACT:office@spielringel.at
X-EXTRAINFO:[preis='1000'][anmeldung='false']
DTSTAMP:20260423T202504
DTSTART:20191108T090000
DTEND:20191108T110000
SEQUENCE:0
RRULE:FREQ=WEEKLY;UNTIL=20191214T000000Z;INTERVAL=1;BYDAY=FR
TRANSP:OPAQUE
END:VEVENT
END:VCALENDAR