BEGIN:VCALENDAR
VERSION:2.0
PRODID:-//jEvents 2.0 for Joomla//EN
CALSCALE:GREGORIAN
METHOD:PUBLISH
BEGIN:VEVENT
UID:f6357af28217444622265a37e4e725fe
CATEGORIES:18. Bezirk
CREATED:19700101T010000
SUMMARY:MamaWORKOUT
LOCATION:SPIELRINGEL Mollgasse 11-13
DESCRIPTION:<p>Du möchtest etwas für deine Fitness und dein Wohlbefinden tun und dein B
 aby soll mit dabei sein? Dann ist <strong>MamaWORKOUT</strong> genau das Ri
 chtige für dich! Das einmalige <strong>MamaWORKOUT</strong> Konzept umfasst
  sowohl Rückbildung, als auch ganzheitliches Fitnesstraining, angepasst an 
 die veränderten körperlichen Bedingungen von Müttern im ersten Babyjahr. De
 in Baby wird dabei liebvoll in die Übungen integriert, spielt, turnt oder k
 uschelt mit!</p><p><strong>Herbstkurs MamaWorkout: 23.9., 30.9., 7.10., 14.
 10., 21.10., 4.11., 11.11., 18.11., 25.11., 2.12.</strong></p><p><span clas
 s="text-primary">Kosten:</span></p><p><strong>Herbstkurs (10 Einheiten) €13
 5,-</strong><br /> 1 Einheit á 60 Minuten (sofern noch ein Platz frei ist) 
 € 15,-</p><p><span class="text-primary">Info &amp; Anmeldung:</span><br /><
 a href="mailto:eva.derdak@gmx.at">eva.derdak@gmx.at</a><br /><a href="tel:+
 436507705810">+43 650 7705810</a></p><p> </p>
X-ALT-DESC;FMTTYPE=text/html:<p>Du möchtest etwas für deine Fitness und dein Wohlbefinden tun und dein B
 aby soll mit dabei sein? Dann ist <strong>MamaWORKOUT</strong> genau das Ri
 chtige für dich! Das einmalige <strong>MamaWORKOUT</strong> Konzept umfasst
  sowohl Rückbildung, als auch ganzheitliches Fitnesstraining, angepasst an 
 die veränderten körperlichen Bedingungen von Müttern im ersten Babyjahr. De
 in Baby wird dabei liebvoll in die Übungen integriert, spielt, turnt oder k
 uschelt mit!</p><p><strong>Herbstkurs MamaWorkout: 23.9., 30.9., 7.10., 14.
 10., 21.10., 4.11., 11.11., 18.11., 25.11., 2.12.</strong></p><p><span clas
 s="text-primary">Kosten:</span></p><p><strong>Herbstkurs (10 Einheiten) €13
 5,-</strong><br /> 1 Einheit á 60 Minuten (sofern noch ein Platz frei ist) 
 € 15,-</p><p><span class="text-primary">Info &amp; Anmeldung:</span><br /><
 a href="mailto:eva.derdak@gmx.at">eva.derdak@gmx.at</a><br /><a href="https
 ://babymamas.at/tel:+436507705810">+43 650 7705810</a></p><p> </p>
CONTACT:www.spielringel.at
X-EXTRAINFO:[preis='1500'][anmeldung='true']
DTSTAMP:20260423T190423
DTSTART:20191111T100000
DTEND:20191111T110000
SEQUENCE:0
RRULE:FREQ=WEEKLY;UNTIL=20191210T000000Z;INTERVAL=1;BYDAY=MO
TRANSP:OPAQUE
END:VEVENT
END:VCALENDAR