BEGIN:VCALENDAR
VERSION:2.0
PRODID:-//jEvents 2.0 for Joomla//EN
CALSCALE:GREGORIAN
METHOD:PUBLISH
BEGIN:VEVENT
UID:5b623839064ec072b0f66b958a17cc80
CATEGORIES:18. Bezirk
CREATED:20191104T102027
SUMMARY:Menschenbabys sind Traglinge!
LOCATION:SPIELRINGEL Mollgasse 11-13
DESCRIPTION:Warum Tragen? Von Natur aus sind Babys Traglinge. Getragen zu werden ist ei
 nes ihrer Grundbedürfnisse. Durch das Tragen kannst du deinem Baby Sicherhe
 it, Geborgenheit und Liebe schenken. Du kannst es damit auf keinen Fall zu 
 sehr verwöhnen. Auch für dich bietet das Tragen einige Vorteile.\nKosten:\n
  € 35,-\nMitzubringen: \n Tragehilfen oder Tragetücher wenn vorhanden\nInfo
  &amp; Anmeldung:\n momoneun@yahoo.de (mailto:momoneun@yahoo.de)\n \n
X-ALT-DESC;FMTTYPE=text/html:<p>Warum Tragen? Von Natur aus sind Babys Traglinge. Getragen zu werden ist
  eines ihrer Grundbedürfnisse. Durch das Tragen kannst du deinem Baby Siche
 rheit, Geborgenheit und Liebe schenken. Du kannst es damit auf keinen Fall 
 zu sehr verwöhnen. Auch für dich bietet das Tragen einige Vorteile.</p><p><
 span class="text-primary">Kosten:</span><br /> € 35,-</p><p><span class="te
 xt-primary">Mitzubringen: </span><br /> Tragehilfen oder Tragetücher wenn v
 orhanden</p><p><span class="text-primary">Info &amp; Anmeldung:</span></p><
 div class="cc-m-hgrid-column last"><div><div class="j-module n j-text "><p>
  <a href="mailto:momoneun@yahoo.de" target="_blank" rel="noopener noreferre
 r">momoneun@yahoo.de</a></p></div></div></div><p> </p>
CONTACT:www.spielringel.at
X-EXTRAINFO:[preis='3500'][anmeldung='true']
DTSTAMP:20260425T152936
DTSTART:20191113T103000
DTEND:20191113T120000
SEQUENCE:0
TRANSP:OPAQUE
END:VEVENT
END:VCALENDAR