BEGIN:VCALENDAR
VERSION:2.0
PRODID:-//jEvents 2.0 for Joomla//EN
CALSCALE:GREGORIAN
METHOD:PUBLISH
BEGIN:VEVENT
UID:38092fa37d0a31c41af27d5c29bf84aa
CATEGORIES:18. Bezirk
CREATED:20191104T103203
SUMMARY:KREATIVE FREUDE Glanz & Glitzer
LOCATION:SPIELRINGEL Mollgasse 11-13
DESCRIPTION:Bastelworkshops für Kinder ab 2 Jahren (mit Begleitung)Bei der Kreativen Fr
 eude geht es weniger um das Endprodukt, als um den Spaß und die Freude beim
  Kreativ sein.\nEs werden verschiedene Bastelmaterialien und Ideen zu einem
  Thema zur Verfügung gestellt und die Kinder dürfen nach Lust und Laune wer
 ken.\nWir malen, basteln, schnippseln, stempeln, stanzen, kleben, formen, u
 sw .-  daher ist es sinnvoll, Gewand, das auch schmutzig werden darf, anzuz
 iehen.\nKosten: € 20,- pro Kind mit Begleitperson\n5er Blockkarte €90,- (ei
 nlösbar innerhalb eines Jahres)\nInfo &amp; Anmeldung:\n office@spielringel
 .at\n
X-ALT-DESC;FMTTYPE=text/html:<h3 class="element-subheader ">Bastelworkshops für Kinder ab 2 Jahren (mit 
 Begleitung)</h3><div id="c391" class="frame frame-default frame-type-textpi
 c frame-background- frame-no-backgroundimage frame-space-before-none frame-
 space-after-none"><div class="frame-container"><div class="frame-inner"><p>
 Bei der Kreativen Freude geht es weniger um das Endprodukt, als um den Spaß
  und die Freude beim Kreativ sein.</p><p>Es werden verschiedene Bastelmater
 ialien und Ideen zu einem Thema zur Verfügung gestellt und die Kinder dürfe
 n nach Lust und Laune werken.</p><p>Wir malen, basteln, schnippseln, stempe
 ln, stanzen, kleben, formen, usw .-  daher ist es sinnvoll, Gewand, das auc
 h schmutzig werden darf, anzuziehen.</p><p><span class="text-primary">Koste
 n: </span>€ 20,- pro Kind mit Begleitperson</p><p>5er Blockkarte €90,- (ein
 lösbar innerhalb eines Jahres)</p><p><span class="text-primary">Info &amp; 
 Anmeldung:</span><br /> office@spielringel.at</p></div></div></div>
CONTACT:www.spielringel.at
X-EXTRAINFO:[preis='2000'][anmeldung='true']
DTSTAMP:20260425T153943
DTSTART:20191121T133000
DTEND:20191121T150000
SEQUENCE:0
TRANSP:OPAQUE
END:VEVENT
END:VCALENDAR