BEGIN:VCALENDAR
VERSION:2.0
PRODID:-//jEvents 2.0 for Joomla//EN
CALSCALE:GREGORIAN
METHOD:PUBLISH
BEGIN:VEVENT
UID:566f8f9491ec3ee1826eea54a8997603
CATEGORIES:18. Bezirk
CREATED:20191104T103353
SUMMARY:Babys ohne Windeln? 
LOCATION:SPIELRINGEL Mollgasse 11-13
DESCRIPTION:Babys ohne Windeln?Ist das überhaupt möglich?Termin: \n 20.11.2019 11:30-13
 :00 mit Momo (http://schwangerschaft-elternschaft.at/das-team/momo/)\nKoste
 n:\n € 25,- bzw. € 40,- für Paare\nInfo &amp; Anmeldung:\nmomoneun@yahoo.de
  (mailto:momoneun@yahoo.de)\nVortrag zur natürlichen Säuglingspflege\nWir l
 eben in einer Zeit in der Wegwerf- oder Stoffwindeln, im Zusammenleben mit 
 Babys und Kleinkindern, kaum weg zu denken sind. Aber wie haben es Generati
 onen vor uns gemacht, als es diese Möglichkeiten noch nicht gab? Oder wie m
 achen es noch heute viele Menschen, vor allem in anderen Kulturen?\nBabys h
 aben Bedürfnisse wie zB. Schlafen, Hunger, Nähe und auch Ausscheiden. Sie s
 püren es und sie kommunizieren es. Wie können wir diese Signale richtig deu
 ten und darauf eingehen.\n Es wird um die Frage gehen was ist natürliche Sä
 uglingspflege, worum geht es bei der Ausscheidungskommunikation und wie kan
 n ich sie im Alltag mit meinem Baby leben.\n Dieser Vortrag richtig sich an
  (werdende) Eltern wie auch begleitende Menschen (Hebammen, Ärztinnen, Doul
 as, …) - die mehr über die Fähigkeit des Babys und die Möglichkeit der inte
 nsiven und intuitiven Kommunikation erfahren wollen.\nEs wird Raum für indi
 viduelle Fragen, spezielle Themen und meinen Erfahrungen als Mama von 2 Kin
 dern geben. Es werden Windelfreiutensilien und Bücher vor Ort bereitliegen.
 \n
X-ALT-DESC;FMTTYPE=text/html:<div class="row"><div class="col-md-pull-6 col-md-6 col-xs-12"><header><h2 
 class="element-header "><strong>Babys ohne Windeln?</strong></h2><h3 class=
 "element-subheader ">Ist das überhaupt möglich?</h3></header><p><span class
 ="text-primary">Termin:</span> <br /> 20.11.2019 11:30-13:00 mit<a href="ht
 tp://schwangerschaft-elternschaft.at/das-team/momo/"> Momo</a></p><p><span 
 class="text-primary">Kosten:</span><br /> € 25,- bzw. € 40,- für Paare</p><
 p><span class="text-primary">Info &amp; Anmeldung:</span><br /><a href="mai
 lto:momoneun@yahoo.de" target="_blank" rel="noopener noreferrer">momoneun@y
 ahoo.de</a></p></div></div><div id="c244" class="frame frame-default frame-
 type-text frame-background-none frame-no-backgroundimage frame-space-before
 -none frame-space-after-none"><div class="frame-container"><div class="fram
 e-inner"><p><strong>Vortrag zur natürlichen Säuglingspflege</strong></p><p>
 Wir leben in einer Zeit in der Wegwerf- oder Stoffwindeln, im Zusammenleben
  mit Babys und Kleinkindern, kaum weg zu denken sind. Aber wie haben es Gen
 erationen vor uns gemacht, als es diese Möglichkeiten noch nicht gab? Oder 
 wie machen es noch heute viele Menschen, vor allem in anderen Kulturen?</p>
 <p>Babys haben Bedürfnisse wie zB. Schlafen, Hunger, Nähe und auch Ausschei
 den. Sie spüren es und sie kommunizieren es. Wie können wir diese Signale r
 ichtig deuten und darauf eingehen.<br /> Es wird um die Frage gehen was ist
  natürliche Säuglingspflege, worum geht es bei der Ausscheidungskommunikati
 on und wie kann ich sie im Alltag mit meinem Baby leben.<br /> Dieser Vortr
 ag richtig sich an (werdende) Eltern wie auch begleitende Menschen (Hebamme
 n, Ärztinnen, Doulas, …) - die mehr über die Fähigkeit des Babys und die Mö
 glichkeit der intensiven und intuitiven Kommunikation erfahren wollen.</p><
 p>Es wird Raum für individuelle Fragen, spezielle Themen und meinen Erfahru
 ngen als Mama von 2 Kindern geben. Es werden Windelfreiutensilien und Büche
 r vor Ort bereitliegen.</p></div></div></div>
CONTACT:www.spielringel.at
X-EXTRAINFO:[preis='2500'][anmeldung='true']
DTSTAMP:20260425T170423
DTSTART:20191120T103000
DTEND:20191120T120000
SEQUENCE:0
TRANSP:OPAQUE
END:VEVENT
END:VCALENDAR