BEGIN:VCALENDAR
VERSION:2.0
PRODID:-//jEvents 2.0 for Joomla//EN
CALSCALE:GREGORIAN
METHOD:PUBLISH
BEGIN:VEVENT
UID:ceee9be6b915cbefee644e0ab3eb9a77
CATEGORIES:2. Bezirk
CREATED:20191109T095214
SUMMARY:Notfälle mit Kindern
LOCATION:Taborstraße 78\, 1020 Wien
DESCRIPTION:Aus Babys werden kleine Entdecker! Im Alter von 2 bis 7 Jahren gibt es viel
 e Dinge, die einem Kind passieren können. Zum Glück meist harmlos. Aber man
  will vorbereitet sein. Besuchen Sie schon jetzt unseren Kurs "Notfälle mit
  Kindern", um sich ideal vorzubereiten.\n \nFolgende Themen werden besproch
 en und - wo möglich - auch geübt:\nStürze und Verletzungen\nBewusstlosigkei
 t, Gehirnerschütterung\nKnochenbrüche\nVerschlucken von Fremdkörpern\nVerbr
 ennungen\nVergiftungen\n \nDer Kurs dauert lediglich vier UE (Unterrichtsei
 nheiten) und gibt auch die Möglichkeit, sich in den Pausen auszutauschen. P
 ausenkaffee ist im Preis inklusive. \n \nVortragender ist Kai-Uwe Hafer, se
 it beinahe 30 Jahren in der Ausbildung tätig, Notfallsanitäter und Lehrsani
 täter \n \n
X-ALT-DESC;FMTTYPE=text/html:<p>Aus Babys werden kleine Entdecker! Im Alter von 2 bis 7 Jahren gibt es v
 iele Dinge, die einem Kind passieren können. Zum Glück meist harmlos. Aber 
 man will vorbereitet sein. Besuchen Sie schon jetzt unseren Kurs "Notfälle 
 mit Kindern", um sich ideal vorzubereiten.</p><p> </p><p><span style="text-
 decoration: underline;">Folgende Themen werden besprochen und - wo möglich 
 - auch geübt:</span></p><p>Stürze und Verletzungen</p><p>Bewusstlosigkeit, 
 Gehirnerschütterung</p><p>Knochenbrüche</p><p>Verschlucken von Fremdkörpern
 </p><p>Verbrennungen</p><p>Vergiftungen</p><p> </p><p>Der Kurs dauert ledig
 lich vier UE (Unterrichtseinheiten) und gibt auch die Möglichkeit, sich in 
 den Pausen auszutauschen. <strong>Pausenkaffee ist im Preis inklusive. </st
 rong></p><p> </p><p>Vortragender ist <strong>Kai-Uwe Hafer</strong>, seit b
 einahe 30 Jahren in der Ausbildung tätig, <strong>Notfallsanitäter und Lehr
 sanitäter </strong></p><p> </p>
CONTACT:https://erste-hilfe-kurse.webnode.com/
X-EXTRAINFO:[preis='4500'][anmeldung='true']
DTSTAMP:20260423T171630
DTSTART:20191117T130000
DTEND:20191117T170000
SEQUENCE:0
TRANSP:OPAQUE
END:VEVENT
END:VCALENDAR